BEGIN:VCALENDAR
VERSION:2.0
PRODID:https://www.kufer.de/kuferweb / DE
METHOD:PUBLISH
CALSCALE:GREGORIAN
X-WR-TIMEZONE:Europe/Berlin
BEGIN:VTIMEZONE
TZID:Europe/Berlin
X-LIC-LOCATION:Europe/Berlin
BEGIN:DAYLIGHT
TZOFFSETFROM:+0100
TZOFFSETTO:+0200
TZNAME:CEST
DTSTART:19700329T020000
RRULE:FREQ=YEARLY;INTERVAL=1;BYDAY=-1SU;BYMONTH=3
END:DAYLIGHT
BEGIN:STANDARD
TZOFFSETFROM:+0200
TZOFFSETTO:+0100
TZNAME:CET
DTSTART:19701025T030000
RRULE:FREQ=YEARLY;INTERVAL=1;BYDAY=-1SU;BYMONTH=10
END:STANDARD
END:VTIMEZONE
BEGIN:VEVENT
DTSTAMP:20260421T175432
DTSTART;TZID=Europe/Berlin:20260331T090000
DTEND;TZID=Europe/Berlin:20260331T120000
UID:1W89683-20260331T090000@VHSLAICHINGEN
DESCRIPTION:für 03.04. (Karfreitag)
SUMMARY:Mathematik für die Vorbereitung Mittlere Reife Klasse 10 Realschule für Allgemeines und Berufliches Gymnasium in den Osterferien (1W89683) 
LOCATION:Laichingen; vhs-Mitte, Raum 3 Business, Radstraße 10, 89150 Laichingen
END:VEVENT
BEGIN:VEVENT
DTSTAMP:20260421T175432
DTSTART;TZID=Europe/Berlin:20260401T090000
DTEND;TZID=Europe/Berlin:20260401T120000
UID:1W89683-20260401T090000@VHSLAICHINGEN
SUMMARY:Mathematik für die Vorbereitung Mittlere Reife Klasse 10 Realschule für Allgemeines und Berufliches Gymnasium in den Osterferien (1W89683) 
LOCATION:Laichingen; vhs-Mitte, Raum 3 Business, Radstraße 10, 89150 Laichingen
END:VEVENT
BEGIN:VEVENT
DTSTAMP:20260421T175432
DTSTART;TZID=Europe/Berlin:20260402T090000
DTEND;TZID=Europe/Berlin:20260402T120000
UID:1W89683-20260402T090000@VHSLAICHINGEN
SUMMARY:Mathematik für die Vorbereitung Mittlere Reife Klasse 10 Realschule für Allgemeines und Berufliches Gymnasium in den Osterferien (1W89683) 
LOCATION:Laichingen; vhs-Mitte, Raum 3 Business, Radstraße 10, 89150 Laichingen
END:VEVENT
BEGIN:VEVENT
DTSTAMP:20260421T175432
DTSTART;TZID=Europe/Berlin:20260404T090000
DTEND;TZID=Europe/Berlin:20260404T120000
UID:1W89683-20260404T090000@VHSLAICHINGEN
SUMMARY:Mathematik für die Vorbereitung Mittlere Reife Klasse 10 Realschule für Allgemeines und Berufliches Gymnasium in den Osterferien (1W89683) 
LOCATION:Laichingen; vhs-Mitte, Raum 3 Business, Radstraße 10, 89150 Laichingen
END:VEVENT
END:VCALENDAR