BEGIN:VCALENDAR
VERSION:2.0
PRODID:https://www.kufer.de/kuferweb / DE
METHOD:PUBLISH
CALSCALE:GREGORIAN
X-WR-TIMEZONE:Europe/Berlin
BEGIN:VTIMEZONE
TZID:Europe/Berlin
X-LIC-LOCATION:Europe/Berlin
BEGIN:DAYLIGHT
TZOFFSETFROM:+0100
TZOFFSETTO:+0200
TZNAME:CEST
DTSTART:19700329T020000
RRULE:FREQ=YEARLY;INTERVAL=1;BYDAY=-1SU;BYMONTH=3
END:DAYLIGHT
BEGIN:STANDARD
TZOFFSETFROM:+0200
TZOFFSETTO:+0100
TZNAME:CET
DTSTART:19701025T030000
RRULE:FREQ=YEARLY;INTERVAL=1;BYDAY=-1SU;BYMONTH=10
END:STANDARD
END:VTIMEZONE
BEGIN:VEVENT
DTSTAMP:20260422T102203
DTSTART;TZID=Europe/Berlin:20260824T093000
DTEND;TZID=Europe/Berlin:20260824T153000
UID:1W85664-20260824T093000@VHSLAICHINGEN
SUMMARY:Pony-Woche ab 6 Jahre; in den Sommerferien (1W85664) 
LOCATION:Schelklingen; Urspringschule, Reitstall, Urspring 1, 89601 Schelklingen
END:VEVENT
BEGIN:VEVENT
DTSTAMP:20260422T102203
DTSTART;TZID=Europe/Berlin:20260825T093000
DTEND;TZID=Europe/Berlin:20260825T153000
UID:1W85664-20260825T093000@VHSLAICHINGEN
SUMMARY:Pony-Woche ab 6 Jahre; in den Sommerferien (1W85664) 
LOCATION:Schelklingen; Urspringschule, Reitstall, Urspring 1, 89601 Schelklingen
END:VEVENT
BEGIN:VEVENT
DTSTAMP:20260422T102203
DTSTART;TZID=Europe/Berlin:20260826T093000
DTEND;TZID=Europe/Berlin:20260826T153000
UID:1W85664-20260826T093000@VHSLAICHINGEN
SUMMARY:Pony-Woche ab 6 Jahre; in den Sommerferien (1W85664) 
LOCATION:Schelklingen; Urspringschule, Reitstall, Urspring 1, 89601 Schelklingen
END:VEVENT
BEGIN:VEVENT
DTSTAMP:20260422T102203
DTSTART;TZID=Europe/Berlin:20260827T093000
DTEND;TZID=Europe/Berlin:20260827T153000
UID:1W85664-20260827T093000@VHSLAICHINGEN
SUMMARY:Pony-Woche ab 6 Jahre; in den Sommerferien (1W85664) 
LOCATION:Schelklingen; Urspringschule, Reitstall, Urspring 1, 89601 Schelklingen
END:VEVENT
BEGIN:VEVENT
DTSTAMP:20260422T102203
DTSTART;TZID=Europe/Berlin:20260828T093000
DTEND;TZID=Europe/Berlin:20260828T153000
UID:1W85664-20260828T093000@VHSLAICHINGEN
SUMMARY:Pony-Woche ab 6 Jahre; in den Sommerferien (1W85664) 
LOCATION:Schelklingen; Urspringschule, Reitstall, Urspring 1, 89601 Schelklingen
END:VEVENT
END:VCALENDAR