BEGIN:VCALENDAR
VERSION:2.0
PRODID:https://www.kufer.de/kuferweb / DE
METHOD:PUBLISH
CALSCALE:GREGORIAN
X-WR-TIMEZONE:Europe/Berlin
BEGIN:VTIMEZONE
TZID:Europe/Berlin
X-LIC-LOCATION:Europe/Berlin
BEGIN:DAYLIGHT
TZOFFSETFROM:+0100
TZOFFSETTO:+0200
TZNAME:CEST
DTSTART:19700329T020000
RRULE:FREQ=YEARLY;INTERVAL=1;BYDAY=-1SU;BYMONTH=3
END:DAYLIGHT
BEGIN:STANDARD
TZOFFSETFROM:+0200
TZOFFSETTO:+0100
TZNAME:CET
DTSTART:19701025T030000
RRULE:FREQ=YEARLY;INTERVAL=1;BYDAY=-1SU;BYMONTH=10
END:STANDARD
END:VTIMEZONE
BEGIN:VEVENT
DTSTAMP:20260419T151156
DTSTART;TZID=Europe/Berlin:20260226T163000
DTEND;TZID=Europe/Berlin:20260226T173000
UID:1W83381-20260226T163000@VHSLAICHINGEN
SUMMARY:Jazz- und Modern Dance 7 bis 9 Jahre (1W83381) 
LOCATION:Laichingen; vhs-Gymnastikraum, Feldstetter Straße 12, 89150 Laichingen
END:VEVENT
BEGIN:VEVENT
DTSTAMP:20260419T151156
DTSTART;TZID=Europe/Berlin:20260305T163000
DTEND;TZID=Europe/Berlin:20260305T173000
UID:1W83381-20260305T163000@VHSLAICHINGEN
SUMMARY:Jazz- und Modern Dance 7 bis 9 Jahre (1W83381) 
LOCATION:Laichingen; vhs-Gymnastikraum, Feldstetter Straße 12, 89150 Laichingen
END:VEVENT
BEGIN:VEVENT
DTSTAMP:20260419T151156
DTSTART;TZID=Europe/Berlin:20260312T163000
DTEND;TZID=Europe/Berlin:20260312T173000
UID:1W83381-20260312T163000@VHSLAICHINGEN
SUMMARY:Jazz- und Modern Dance 7 bis 9 Jahre (1W83381) 
LOCATION:Laichingen; vhs-Gymnastikraum, Feldstetter Straße 12, 89150 Laichingen
END:VEVENT
BEGIN:VEVENT
DTSTAMP:20260419T151156
DTSTART;TZID=Europe/Berlin:20260319T163000
DTEND;TZID=Europe/Berlin:20260319T173000
UID:1W83381-20260319T163000@VHSLAICHINGEN
SUMMARY:Jazz- und Modern Dance 7 bis 9 Jahre (1W83381) 
LOCATION:Laichingen; vhs-Gymnastikraum, Feldstetter Straße 12, 89150 Laichingen
END:VEVENT
BEGIN:VEVENT
DTSTAMP:20260419T151156
DTSTART;TZID=Europe/Berlin:20260326T163000
DTEND;TZID=Europe/Berlin:20260326T173000
UID:1W83381-20260326T163000@VHSLAICHINGEN
SUMMARY:Jazz- und Modern Dance 7 bis 9 Jahre (1W83381) 
LOCATION:Laichingen; vhs-Gymnastikraum, Feldstetter Straße 12, 89150 Laichingen
END:VEVENT
BEGIN:VEVENT
DTSTAMP:20260419T151156
DTSTART;TZID=Europe/Berlin:20260416T163000
DTEND;TZID=Europe/Berlin:20260416T173000
UID:1W83381-20260416T163000@VHSLAICHINGEN
SUMMARY:Jazz- und Modern Dance 7 bis 9 Jahre (1W83381) 
LOCATION:Laichingen; vhs-Gymnastikraum, Feldstetter Straße 12, 89150 Laichingen
END:VEVENT
BEGIN:VEVENT
DTSTAMP:20260419T151156
DTSTART;TZID=Europe/Berlin:20260423T163000
DTEND;TZID=Europe/Berlin:20260423T173000
UID:1W83381-20260423T163000@VHSLAICHINGEN
SUMMARY:Jazz- und Modern Dance 7 bis 9 Jahre (1W83381) 
LOCATION:Laichingen; vhs-Gymnastikraum, Feldstetter Straße 12, 89150 Laichingen
END:VEVENT
BEGIN:VEVENT
DTSTAMP:20260419T151156
DTSTART;TZID=Europe/Berlin:20260430T163000
DTEND;TZID=Europe/Berlin:20260430T173000
UID:1W83381-20260430T163000@VHSLAICHINGEN
SUMMARY:Jazz- und Modern Dance 7 bis 9 Jahre (1W83381) 
LOCATION:Laichingen; vhs-Gymnastikraum, Feldstetter Straße 12, 89150 Laichingen
END:VEVENT
BEGIN:VEVENT
DTSTAMP:20260419T151156
DTSTART;TZID=Europe/Berlin:20260507T163000
DTEND;TZID=Europe/Berlin:20260507T173000
UID:1W83381-20260507T163000@VHSLAICHINGEN
SUMMARY:Jazz- und Modern Dance 7 bis 9 Jahre (1W83381) 
LOCATION:Laichingen; vhs-Gymnastikraum, Feldstetter Straße 12, 89150 Laichingen
END:VEVENT
BEGIN:VEVENT
DTSTAMP:20260419T151156
DTSTART;TZID=Europe/Berlin:20260521T163000
DTEND;TZID=Europe/Berlin:20260521T173000
UID:1W83381-20260521T163000@VHSLAICHINGEN
SUMMARY:Jazz- und Modern Dance 7 bis 9 Jahre (1W83381) 
LOCATION:Laichingen; vhs-Gymnastikraum, Feldstetter Straße 12, 89150 Laichingen
END:VEVENT
BEGIN:VEVENT
DTSTAMP:20260419T151156
DTSTART;TZID=Europe/Berlin:20260611T163000
DTEND;TZID=Europe/Berlin:20260611T173000
UID:1W83381-20260611T163000@VHSLAICHINGEN
SUMMARY:Jazz- und Modern Dance 7 bis 9 Jahre (1W83381) 
LOCATION:Laichingen; vhs-Gymnastikraum, Feldstetter Straße 12, 89150 Laichingen
END:VEVENT
BEGIN:VEVENT
DTSTAMP:20260419T151156
DTSTART;TZID=Europe/Berlin:20260618T163000
DTEND;TZID=Europe/Berlin:20260618T173000
UID:1W83381-20260618T163000@VHSLAICHINGEN
SUMMARY:Jazz- und Modern Dance 7 bis 9 Jahre (1W83381) 
LOCATION:Laichingen; vhs-Gymnastikraum, Feldstetter Straße 12, 89150 Laichingen
END:VEVENT
BEGIN:VEVENT
DTSTAMP:20260419T151156
DTSTART;TZID=Europe/Berlin:20260625T163000
DTEND;TZID=Europe/Berlin:20260625T173000
UID:1W83381-20260625T163000@VHSLAICHINGEN
SUMMARY:Jazz- und Modern Dance 7 bis 9 Jahre (1W83381) 
LOCATION:Laichingen; vhs-Gymnastikraum, Feldstetter Straße 12, 89150 Laichingen
END:VEVENT
BEGIN:VEVENT
DTSTAMP:20260419T151156
DTSTART;TZID=Europe/Berlin:20260702T163000
DTEND;TZID=Europe/Berlin:20260702T173000
UID:1W83381-20260702T163000@VHSLAICHINGEN
SUMMARY:Jazz- und Modern Dance 7 bis 9 Jahre (1W83381) 
LOCATION:Laichingen; vhs-Gymnastikraum, Feldstetter Straße 12, 89150 Laichingen
END:VEVENT
BEGIN:VEVENT
DTSTAMP:20260419T151156
DTSTART;TZID=Europe/Berlin:20260709T163000
DTEND;TZID=Europe/Berlin:20260709T173000
UID:1W83381-20260709T163000@VHSLAICHINGEN
SUMMARY:Jazz- und Modern Dance 7 bis 9 Jahre (1W83381) 
LOCATION:Laichingen; vhs-Gymnastikraum, Feldstetter Straße 12, 89150 Laichingen
END:VEVENT
END:VCALENDAR