BEGIN:VCALENDAR
VERSION:2.0
PRODID:https://www.kufer.de/kuferweb / DE
METHOD:PUBLISH
CALSCALE:GREGORIAN
X-WR-TIMEZONE:Europe/Berlin
BEGIN:VTIMEZONE
TZID:Europe/Berlin
X-LIC-LOCATION:Europe/Berlin
BEGIN:DAYLIGHT
TZOFFSETFROM:+0100
TZOFFSETTO:+0200
TZNAME:CEST
DTSTART:19700329T020000
RRULE:FREQ=YEARLY;INTERVAL=1;BYDAY=-1SU;BYMONTH=3
END:DAYLIGHT
BEGIN:STANDARD
TZOFFSETFROM:+0200
TZOFFSETTO:+0100
TZNAME:CET
DTSTART:19701025T030000
RRULE:FREQ=YEARLY;INTERVAL=1;BYDAY=-1SU;BYMONTH=10
END:STANDARD
END:VTIMEZONE
BEGIN:VEVENT
DTSTAMP:20260422T011254
DTSTART;TZID=Europe/Berlin:20260226T152500
DTEND;TZID=Europe/Berlin:20260226T162500
UID:1W83380-20260226T152500@VHSLAICHINGEN
SUMMARY:Jazz- und Modern Dance 8 bis 11 Jahre (1W83380) 
LOCATION:Laichingen; vhs-Gymnastikraum, Feldstetter Straße 12, 89150 Laichingen
END:VEVENT
BEGIN:VEVENT
DTSTAMP:20260422T011254
DTSTART;TZID=Europe/Berlin:20260305T152500
DTEND;TZID=Europe/Berlin:20260305T162500
UID:1W83380-20260305T152500@VHSLAICHINGEN
SUMMARY:Jazz- und Modern Dance 8 bis 11 Jahre (1W83380) 
LOCATION:Laichingen; vhs-Gymnastikraum, Feldstetter Straße 12, 89150 Laichingen
END:VEVENT
BEGIN:VEVENT
DTSTAMP:20260422T011254
DTSTART;TZID=Europe/Berlin:20260312T152500
DTEND;TZID=Europe/Berlin:20260312T162500
UID:1W83380-20260312T152500@VHSLAICHINGEN
SUMMARY:Jazz- und Modern Dance 8 bis 11 Jahre (1W83380) 
LOCATION:Laichingen; vhs-Gymnastikraum, Feldstetter Straße 12, 89150 Laichingen
END:VEVENT
BEGIN:VEVENT
DTSTAMP:20260422T011254
DTSTART;TZID=Europe/Berlin:20260319T152500
DTEND;TZID=Europe/Berlin:20260319T162500
UID:1W83380-20260319T152500@VHSLAICHINGEN
SUMMARY:Jazz- und Modern Dance 8 bis 11 Jahre (1W83380) 
LOCATION:Laichingen; vhs-Gymnastikraum, Feldstetter Straße 12, 89150 Laichingen
END:VEVENT
BEGIN:VEVENT
DTSTAMP:20260422T011254
DTSTART;TZID=Europe/Berlin:20260326T152500
DTEND;TZID=Europe/Berlin:20260326T162500
UID:1W83380-20260326T152500@VHSLAICHINGEN
SUMMARY:Jazz- und Modern Dance 8 bis 11 Jahre (1W83380) 
LOCATION:Laichingen; vhs-Gymnastikraum, Feldstetter Straße 12, 89150 Laichingen
END:VEVENT
BEGIN:VEVENT
DTSTAMP:20260422T011254
DTSTART;TZID=Europe/Berlin:20260416T152500
DTEND;TZID=Europe/Berlin:20260416T162500
UID:1W83380-20260416T152500@VHSLAICHINGEN
SUMMARY:Jazz- und Modern Dance 8 bis 11 Jahre (1W83380) 
LOCATION:Laichingen; vhs-Gymnastikraum, Feldstetter Straße 12, 89150 Laichingen
END:VEVENT
BEGIN:VEVENT
DTSTAMP:20260422T011254
DTSTART;TZID=Europe/Berlin:20260423T152500
DTEND;TZID=Europe/Berlin:20260423T162500
UID:1W83380-20260423T152500@VHSLAICHINGEN
SUMMARY:Jazz- und Modern Dance 8 bis 11 Jahre (1W83380) 
LOCATION:Laichingen; vhs-Gymnastikraum, Feldstetter Straße 12, 89150 Laichingen
END:VEVENT
BEGIN:VEVENT
DTSTAMP:20260422T011254
DTSTART;TZID=Europe/Berlin:20260430T152500
DTEND;TZID=Europe/Berlin:20260430T162500
UID:1W83380-20260430T152500@VHSLAICHINGEN
SUMMARY:Jazz- und Modern Dance 8 bis 11 Jahre (1W83380) 
LOCATION:Laichingen; vhs-Gymnastikraum, Feldstetter Straße 12, 89150 Laichingen
END:VEVENT
BEGIN:VEVENT
DTSTAMP:20260422T011254
DTSTART;TZID=Europe/Berlin:20260507T152500
DTEND;TZID=Europe/Berlin:20260507T162500
UID:1W83380-20260507T152500@VHSLAICHINGEN
SUMMARY:Jazz- und Modern Dance 8 bis 11 Jahre (1W83380) 
LOCATION:Laichingen; vhs-Gymnastikraum, Feldstetter Straße 12, 89150 Laichingen
END:VEVENT
BEGIN:VEVENT
DTSTAMP:20260422T011254
DTSTART;TZID=Europe/Berlin:20260521T152500
DTEND;TZID=Europe/Berlin:20260521T162500
UID:1W83380-20260521T152500@VHSLAICHINGEN
SUMMARY:Jazz- und Modern Dance 8 bis 11 Jahre (1W83380) 
LOCATION:Laichingen; vhs-Gymnastikraum, Feldstetter Straße 12, 89150 Laichingen
END:VEVENT
BEGIN:VEVENT
DTSTAMP:20260422T011254
DTSTART;TZID=Europe/Berlin:20260611T152500
DTEND;TZID=Europe/Berlin:20260611T162500
UID:1W83380-20260611T152500@VHSLAICHINGEN
SUMMARY:Jazz- und Modern Dance 8 bis 11 Jahre (1W83380) 
LOCATION:Laichingen; vhs-Gymnastikraum, Feldstetter Straße 12, 89150 Laichingen
END:VEVENT
BEGIN:VEVENT
DTSTAMP:20260422T011254
DTSTART;TZID=Europe/Berlin:20260618T152500
DTEND;TZID=Europe/Berlin:20260618T162500
UID:1W83380-20260618T152500@VHSLAICHINGEN
SUMMARY:Jazz- und Modern Dance 8 bis 11 Jahre (1W83380) 
LOCATION:Laichingen; vhs-Gymnastikraum, Feldstetter Straße 12, 89150 Laichingen
END:VEVENT
BEGIN:VEVENT
DTSTAMP:20260422T011254
DTSTART;TZID=Europe/Berlin:20260625T152500
DTEND;TZID=Europe/Berlin:20260625T162500
UID:1W83380-20260625T152500@VHSLAICHINGEN
SUMMARY:Jazz- und Modern Dance 8 bis 11 Jahre (1W83380) 
LOCATION:Laichingen; vhs-Gymnastikraum, Feldstetter Straße 12, 89150 Laichingen
END:VEVENT
BEGIN:VEVENT
DTSTAMP:20260422T011254
DTSTART;TZID=Europe/Berlin:20260702T152500
DTEND;TZID=Europe/Berlin:20260702T162500
UID:1W83380-20260702T152500@VHSLAICHINGEN
SUMMARY:Jazz- und Modern Dance 8 bis 11 Jahre (1W83380) 
LOCATION:Laichingen; vhs-Gymnastikraum, Feldstetter Straße 12, 89150 Laichingen
END:VEVENT
BEGIN:VEVENT
DTSTAMP:20260422T011254
DTSTART;TZID=Europe/Berlin:20260709T152500
DTEND;TZID=Europe/Berlin:20260709T162500
UID:1W83380-20260709T152500@VHSLAICHINGEN
SUMMARY:Jazz- und Modern Dance 8 bis 11 Jahre (1W83380) 
LOCATION:Laichingen; vhs-Gymnastikraum, Feldstetter Straße 12, 89150 Laichingen
END:VEVENT
END:VCALENDAR