BEGIN:VCALENDAR
VERSION:2.0
PRODID:https://www.kufer.de/kuferweb / DE
METHOD:PUBLISH
CALSCALE:GREGORIAN
X-WR-TIMEZONE:Europe/Berlin
BEGIN:VTIMEZONE
TZID:Europe/Berlin
X-LIC-LOCATION:Europe/Berlin
BEGIN:DAYLIGHT
TZOFFSETFROM:+0100
TZOFFSETTO:+0200
TZNAME:CEST
DTSTART:19700329T020000
RRULE:FREQ=YEARLY;INTERVAL=1;BYDAY=-1SU;BYMONTH=3
END:DAYLIGHT
BEGIN:STANDARD
TZOFFSETFROM:+0200
TZOFFSETTO:+0100
TZNAME:CET
DTSTART:19701025T030000
RRULE:FREQ=YEARLY;INTERVAL=1;BYDAY=-1SU;BYMONTH=10
END:STANDARD
END:VTIMEZONE
BEGIN:VEVENT
DTSTAMP:20260422T011216
DTSTART;TZID=Europe/Berlin:20260228T113000
DTEND;TZID=Europe/Berlin:20260228T123000
UID:1W83314-20260228T113000@VHSLAICHINGEN
SUMMARY:Kids Kung Fu lll - Gewaltprävention und Selbstverteidigung 8 bis 13 Jahre; für Fortgeschrittene ab dem 3. Schülergrad (Gürtel) (1W83314) 
LOCATION:Heroldstatt; Seniorenbegegnungsstätte
END:VEVENT
BEGIN:VEVENT
DTSTAMP:20260422T011216
DTSTART;TZID=Europe/Berlin:20260307T113000
DTEND;TZID=Europe/Berlin:20260307T123000
UID:1W83314-20260307T113000@VHSLAICHINGEN
SUMMARY:Kids Kung Fu lll - Gewaltprävention und Selbstverteidigung 8 bis 13 Jahre; für Fortgeschrittene ab dem 3. Schülergrad (Gürtel) (1W83314) 
LOCATION:Heroldstatt; Seniorenbegegnungsstätte
END:VEVENT
BEGIN:VEVENT
DTSTAMP:20260422T011216
DTSTART;TZID=Europe/Berlin:20260314T113000
DTEND;TZID=Europe/Berlin:20260314T123000
UID:1W83314-20260314T113000@VHSLAICHINGEN
SUMMARY:Kids Kung Fu lll - Gewaltprävention und Selbstverteidigung 8 bis 13 Jahre; für Fortgeschrittene ab dem 3. Schülergrad (Gürtel) (1W83314) 
LOCATION:Heroldstatt; Seniorenbegegnungsstätte
END:VEVENT
BEGIN:VEVENT
DTSTAMP:20260422T011216
DTSTART;TZID=Europe/Berlin:20260321T113000
DTEND;TZID=Europe/Berlin:20260321T123000
UID:1W83314-20260321T113000@VHSLAICHINGEN
SUMMARY:Kids Kung Fu lll - Gewaltprävention und Selbstverteidigung 8 bis 13 Jahre; für Fortgeschrittene ab dem 3. Schülergrad (Gürtel) (1W83314) 
LOCATION:Heroldstatt; Seniorenbegegnungsstätte
END:VEVENT
BEGIN:VEVENT
DTSTAMP:20260422T011216
DTSTART;TZID=Europe/Berlin:20260328T113000
DTEND;TZID=Europe/Berlin:20260328T123000
UID:1W83314-20260328T113000@VHSLAICHINGEN
SUMMARY:Kids Kung Fu lll - Gewaltprävention und Selbstverteidigung 8 bis 13 Jahre; für Fortgeschrittene ab dem 3. Schülergrad (Gürtel) (1W83314) 
LOCATION:Heroldstatt; Seniorenbegegnungsstätte
END:VEVENT
BEGIN:VEVENT
DTSTAMP:20260422T011216
DTSTART;TZID=Europe/Berlin:20260418T113000
DTEND;TZID=Europe/Berlin:20260418T123000
UID:1W83314-20260418T113000@VHSLAICHINGEN
SUMMARY:Kids Kung Fu lll - Gewaltprävention und Selbstverteidigung 8 bis 13 Jahre; für Fortgeschrittene ab dem 3. Schülergrad (Gürtel) (1W83314) 
LOCATION:Heroldstatt; Seniorenbegegnungsstätte
END:VEVENT
BEGIN:VEVENT
DTSTAMP:20260422T011216
DTSTART;TZID=Europe/Berlin:20260502T113000
DTEND;TZID=Europe/Berlin:20260502T123000
UID:1W83314-20260502T113000@VHSLAICHINGEN
DESCRIPTION:für 18.4.
SUMMARY:Kids Kung Fu lll - Gewaltprävention und Selbstverteidigung 8 bis 13 Jahre; für Fortgeschrittene ab dem 3. Schülergrad (Gürtel) (1W83314) 
LOCATION:Heroldstatt; Seniorenbegegnungsstätte
END:VEVENT
BEGIN:VEVENT
DTSTAMP:20260422T011216
DTSTART;TZID=Europe/Berlin:20260509T113000
DTEND;TZID=Europe/Berlin:20260509T123000
UID:1W83314-20260509T113000@VHSLAICHINGEN
SUMMARY:Kids Kung Fu lll - Gewaltprävention und Selbstverteidigung 8 bis 13 Jahre; für Fortgeschrittene ab dem 3. Schülergrad (Gürtel) (1W83314) 
LOCATION:Heroldstatt; Seniorenbegegnungsstätte
END:VEVENT
BEGIN:VEVENT
DTSTAMP:20260422T011216
DTSTART;TZID=Europe/Berlin:20260516T113000
DTEND;TZID=Europe/Berlin:20260516T123000
UID:1W83314-20260516T113000@VHSLAICHINGEN
DESCRIPTION:24.11.25 (*KT): für 25.4. (Sophie macht im April Abitur)
SUMMARY:Kids Kung Fu lll - Gewaltprävention und Selbstverteidigung 8 bis 13 Jahre; für Fortgeschrittene ab dem 3. Schülergrad (Gürtel) (1W83314) 
LOCATION:Heroldstatt; Seniorenbegegnungsstätte
END:VEVENT
BEGIN:VEVENT
DTSTAMP:20260422T011216
DTSTART;TZID=Europe/Berlin:20260613T113000
DTEND;TZID=Europe/Berlin:20260613T123000
UID:1W83314-20260613T113000@VHSLAICHINGEN
SUMMARY:Kids Kung Fu lll - Gewaltprävention und Selbstverteidigung 8 bis 13 Jahre; für Fortgeschrittene ab dem 3. Schülergrad (Gürtel) (1W83314) 
LOCATION:Heroldstatt; Seniorenbegegnungsstätte
END:VEVENT
BEGIN:VEVENT
DTSTAMP:20260422T011216
DTSTART;TZID=Europe/Berlin:20260620T113000
DTEND;TZID=Europe/Berlin:20260620T123000
UID:1W83314-20260620T113000@VHSLAICHINGEN
SUMMARY:Kids Kung Fu lll - Gewaltprävention und Selbstverteidigung 8 bis 13 Jahre; für Fortgeschrittene ab dem 3. Schülergrad (Gürtel) (1W83314) 
LOCATION:Heroldstatt; Seniorenbegegnungsstätte
END:VEVENT
BEGIN:VEVENT
DTSTAMP:20260422T011216
DTSTART;TZID=Europe/Berlin:20260627T113000
DTEND;TZID=Europe/Berlin:20260627T123000
UID:1W83314-20260627T113000@VHSLAICHINGEN
SUMMARY:Kids Kung Fu lll - Gewaltprävention und Selbstverteidigung 8 bis 13 Jahre; für Fortgeschrittene ab dem 3. Schülergrad (Gürtel) (1W83314) 
LOCATION:Heroldstatt; Seniorenbegegnungsstätte
END:VEVENT
BEGIN:VEVENT
DTSTAMP:20260422T011216
DTSTART;TZID=Europe/Berlin:20260704T113000
DTEND;TZID=Europe/Berlin:20260704T123000
UID:1W83314-20260704T113000@VHSLAICHINGEN
SUMMARY:Kids Kung Fu lll - Gewaltprävention und Selbstverteidigung 8 bis 13 Jahre; für Fortgeschrittene ab dem 3. Schülergrad (Gürtel) (1W83314) 
LOCATION:Heroldstatt; Seniorenbegegnungsstätte
END:VEVENT
BEGIN:VEVENT
DTSTAMP:20260422T011216
DTSTART;TZID=Europe/Berlin:20260711T113000
DTEND;TZID=Europe/Berlin:20260711T123000
UID:1W83314-20260711T113000@VHSLAICHINGEN
SUMMARY:Kids Kung Fu lll - Gewaltprävention und Selbstverteidigung 8 bis 13 Jahre; für Fortgeschrittene ab dem 3. Schülergrad (Gürtel) (1W83314) 
LOCATION:Heroldstatt; Seniorenbegegnungsstätte
END:VEVENT
BEGIN:VEVENT
DTSTAMP:20260422T011216
DTSTART;TZID=Europe/Berlin:20260718T113000
DTEND;TZID=Europe/Berlin:20260718T123000
UID:1W83314-20260718T113000@VHSLAICHINGEN
SUMMARY:Kids Kung Fu lll - Gewaltprävention und Selbstverteidigung 8 bis 13 Jahre; für Fortgeschrittene ab dem 3. Schülergrad (Gürtel) (1W83314) 
LOCATION:Heroldstatt; Seniorenbegegnungsstätte
END:VEVENT
BEGIN:VEVENT
DTSTAMP:20260422T011216
DTSTART;TZID=Europe/Berlin:20260725T113000
DTEND;TZID=Europe/Berlin:20260725T123000
UID:1W83314-20260725T113000@VHSLAICHINGEN
SUMMARY:Kids Kung Fu lll - Gewaltprävention und Selbstverteidigung 8 bis 13 Jahre; für Fortgeschrittene ab dem 3. Schülergrad (Gürtel) (1W83314) 
LOCATION:Heroldstatt; Seniorenbegegnungsstätte
END:VEVENT
END:VCALENDAR