BEGIN:VCALENDAR
VERSION:2.0
PRODID:https://www.kufer.de/kuferweb / DE
METHOD:PUBLISH
CALSCALE:GREGORIAN
X-WR-TIMEZONE:Europe/Berlin
BEGIN:VTIMEZONE
TZID:Europe/Berlin
X-LIC-LOCATION:Europe/Berlin
BEGIN:DAYLIGHT
TZOFFSETFROM:+0100
TZOFFSETTO:+0200
TZNAME:CEST
DTSTART:19700329T020000
RRULE:FREQ=YEARLY;INTERVAL=1;BYDAY=-1SU;BYMONTH=3
END:DAYLIGHT
BEGIN:STANDARD
TZOFFSETFROM:+0200
TZOFFSETTO:+0100
TZNAME:CET
DTSTART:19701025T030000
RRULE:FREQ=YEARLY;INTERVAL=1;BYDAY=-1SU;BYMONTH=10
END:STANDARD
END:VTIMEZONE
BEGIN:VEVENT
DTSTAMP:20260420T100454
DTSTART;TZID=Europe/Berlin:20260225T160000
DTEND;TZID=Europe/Berlin:20260225T164500
UID:1W83293-20260225T160000@VHSLAICHINGEN
SUMMARY:Flöten II ab Klasse 1 (1W83293) 
LOCATION:Laichingen; vhs-Mitte, Raum 2 Kommunikation, Radstraße 10, 89150 Laichingen
END:VEVENT
BEGIN:VEVENT
DTSTAMP:20260420T100454
DTSTART;TZID=Europe/Berlin:20260304T160000
DTEND;TZID=Europe/Berlin:20260304T164500
UID:1W83293-20260304T160000@VHSLAICHINGEN
SUMMARY:Flöten II ab Klasse 1 (1W83293) 
LOCATION:Laichingen; vhs-Mitte, Raum 2 Kommunikation, Radstraße 10, 89150 Laichingen
END:VEVENT
BEGIN:VEVENT
DTSTAMP:20260420T100454
DTSTART;TZID=Europe/Berlin:20260311T160000
DTEND;TZID=Europe/Berlin:20260311T164500
UID:1W83293-20260311T160000@VHSLAICHINGEN
SUMMARY:Flöten II ab Klasse 1 (1W83293) 
LOCATION:Laichingen; vhs-Mitte, Raum 2 Kommunikation, Radstraße 10, 89150 Laichingen
END:VEVENT
BEGIN:VEVENT
DTSTAMP:20260420T100454
DTSTART;TZID=Europe/Berlin:20260325T160000
DTEND;TZID=Europe/Berlin:20260325T164500
UID:1W83293-20260325T160000@VHSLAICHINGEN
SUMMARY:Flöten II ab Klasse 1 (1W83293) 
LOCATION:Laichingen; vhs-Mitte, Raum 2 Kommunikation, Radstraße 10, 89150 Laichingen
END:VEVENT
BEGIN:VEVENT
DTSTAMP:20260420T100454
DTSTART;TZID=Europe/Berlin:20260422T160000
DTEND;TZID=Europe/Berlin:20260422T164500
UID:1W83293-20260422T160000@VHSLAICHINGEN
SUMMARY:Flöten II ab Klasse 1 (1W83293) 
LOCATION:Laichingen; vhs-Mitte, Raum 2 Kommunikation, Radstraße 10, 89150 Laichingen
END:VEVENT
BEGIN:VEVENT
DTSTAMP:20260420T100454
DTSTART;TZID=Europe/Berlin:20260429T160000
DTEND;TZID=Europe/Berlin:20260429T164500
UID:1W83293-20260429T160000@VHSLAICHINGEN
SUMMARY:Flöten II ab Klasse 1 (1W83293) 
LOCATION:Laichingen; vhs-Mitte, Raum 2 Kommunikation, Radstraße 10, 89150 Laichingen
END:VEVENT
BEGIN:VEVENT
DTSTAMP:20260420T100454
DTSTART;TZID=Europe/Berlin:20260506T160000
DTEND;TZID=Europe/Berlin:20260506T164500
UID:1W83293-20260506T160000@VHSLAICHINGEN
SUMMARY:Flöten II ab Klasse 1 (1W83293) 
LOCATION:Laichingen; vhs-Mitte, Raum 2 Kommunikation, Radstraße 10, 89150 Laichingen
END:VEVENT
BEGIN:VEVENT
DTSTAMP:20260420T100454
DTSTART;TZID=Europe/Berlin:20260513T160000
DTEND;TZID=Europe/Berlin:20260513T164500
UID:1W83293-20260513T160000@VHSLAICHINGEN
SUMMARY:Flöten II ab Klasse 1 (1W83293) 
LOCATION:Laichingen; vhs-Mitte, Raum 2 Kommunikation, Radstraße 10, 89150 Laichingen
END:VEVENT
BEGIN:VEVENT
DTSTAMP:20260420T100454
DTSTART;TZID=Europe/Berlin:20260520T160000
DTEND;TZID=Europe/Berlin:20260520T164500
UID:1W83293-20260520T160000@VHSLAICHINGEN
SUMMARY:Flöten II ab Klasse 1 (1W83293) 
LOCATION:Laichingen; vhs-Mitte, Raum 2 Kommunikation, Radstraße 10, 89150 Laichingen
END:VEVENT
BEGIN:VEVENT
DTSTAMP:20260420T100454
DTSTART;TZID=Europe/Berlin:20260610T160000
DTEND;TZID=Europe/Berlin:20260610T164500
UID:1W83293-20260610T160000@VHSLAICHINGEN
SUMMARY:Flöten II ab Klasse 1 (1W83293) 
LOCATION:Laichingen; vhs-Mitte, Raum 2 Kommunikation, Radstraße 10, 89150 Laichingen
END:VEVENT
BEGIN:VEVENT
DTSTAMP:20260420T100454
DTSTART;TZID=Europe/Berlin:20260617T160000
DTEND;TZID=Europe/Berlin:20260617T164500
UID:1W83293-20260617T160000@VHSLAICHINGEN
SUMMARY:Flöten II ab Klasse 1 (1W83293) 
LOCATION:Laichingen; vhs-Mitte, Raum 2 Kommunikation, Radstraße 10, 89150 Laichingen
END:VEVENT
BEGIN:VEVENT
DTSTAMP:20260420T100454
DTSTART;TZID=Europe/Berlin:20260624T160000
DTEND;TZID=Europe/Berlin:20260624T164500
UID:1W83293-20260624T160000@VHSLAICHINGEN
SUMMARY:Flöten II ab Klasse 1 (1W83293) 
LOCATION:Laichingen; vhs-Mitte, Raum 2 Kommunikation, Radstraße 10, 89150 Laichingen
END:VEVENT
BEGIN:VEVENT
DTSTAMP:20260420T100454
DTSTART;TZID=Europe/Berlin:20260701T160000
DTEND;TZID=Europe/Berlin:20260701T164500
UID:1W83293-20260701T160000@VHSLAICHINGEN
SUMMARY:Flöten II ab Klasse 1 (1W83293) 
LOCATION:Laichingen; vhs-Mitte, Raum 2 Kommunikation, Radstraße 10, 89150 Laichingen
END:VEVENT
BEGIN:VEVENT
DTSTAMP:20260420T100454
DTSTART;TZID=Europe/Berlin:20260708T160000
DTEND;TZID=Europe/Berlin:20260708T164500
UID:1W83293-20260708T160000@VHSLAICHINGEN
SUMMARY:Flöten II ab Klasse 1 (1W83293) 
LOCATION:Laichingen; vhs-Mitte, Raum 2 Kommunikation, Radstraße 10, 89150 Laichingen
END:VEVENT
BEGIN:VEVENT
DTSTAMP:20260420T100454
DTSTART;TZID=Europe/Berlin:20260715T160000
DTEND;TZID=Europe/Berlin:20260715T164500
UID:1W83293-20260715T160000@VHSLAICHINGEN
DESCRIPTION:für 15.04. (KL Urlaub, TN gibt KL Bescheid)
SUMMARY:Flöten II ab Klasse 1 (1W83293) 
LOCATION:Laichingen; vhs-Mitte, Raum 2 Kommunikation, Radstraße 10, 89150 Laichingen
END:VEVENT
BEGIN:VEVENT
DTSTAMP:20260420T100454
DTSTART;TZID=Europe/Berlin:20260722T160000
DTEND;TZID=Europe/Berlin:20260722T164500
UID:1W83293-20260722T160000@VHSLAICHINGEN
DESCRIPTION:für 18.03. (Tochter von KL krank)
SUMMARY:Flöten II ab Klasse 1 (1W83293) 
LOCATION:Laichingen; vhs-Mitte, Raum 2 Kommunikation, Radstraße 10, 89150 Laichingen
END:VEVENT
END:VCALENDAR