BEGIN:VCALENDAR
VERSION:2.0
PRODID:https://www.kufer.de/kuferweb / DE
METHOD:PUBLISH
CALSCALE:GREGORIAN
X-WR-TIMEZONE:Europe/Berlin
BEGIN:VTIMEZONE
TZID:Europe/Berlin
X-LIC-LOCATION:Europe/Berlin
BEGIN:DAYLIGHT
TZOFFSETFROM:+0100
TZOFFSETTO:+0200
TZNAME:CEST
DTSTART:19700329T020000
RRULE:FREQ=YEARLY;INTERVAL=1;BYDAY=-1SU;BYMONTH=3
END:DAYLIGHT
BEGIN:STANDARD
TZOFFSETFROM:+0200
TZOFFSETTO:+0100
TZNAME:CET
DTSTART:19701025T030000
RRULE:FREQ=YEARLY;INTERVAL=1;BYDAY=-1SU;BYMONTH=10
END:STANDARD
END:VTIMEZONE
BEGIN:VEVENT
DTSTAMP:20260421T234532
DTSTART;TZID=Europe/Berlin:20260226T080000
DTEND;TZID=Europe/Berlin:20260226T084500
UID:1W82464-20260226T080000@VHSLAICHINGEN
SUMMARY:English Playgroup Berghülen 3 bis 6 Jahre, für Anfänger*innen und Fortgeschrittene (1W82464) 
LOCATION:Berghülen; Feuerwehrhaus, Treffensbucher Straße 12, 89180 Berghülen
END:VEVENT
BEGIN:VEVENT
DTSTAMP:20260421T234532
DTSTART;TZID=Europe/Berlin:20260305T080000
DTEND;TZID=Europe/Berlin:20260305T084500
UID:1W82464-20260305T080000@VHSLAICHINGEN
SUMMARY:English Playgroup Berghülen 3 bis 6 Jahre, für Anfänger*innen und Fortgeschrittene (1W82464) 
LOCATION:Berghülen; Feuerwehrhaus, Treffensbucher Straße 12, 89180 Berghülen
END:VEVENT
BEGIN:VEVENT
DTSTAMP:20260421T234532
DTSTART;TZID=Europe/Berlin:20260312T080000
DTEND;TZID=Europe/Berlin:20260312T084500
UID:1W82464-20260312T080000@VHSLAICHINGEN
SUMMARY:English Playgroup Berghülen 3 bis 6 Jahre, für Anfänger*innen und Fortgeschrittene (1W82464) 
LOCATION:Berghülen; Feuerwehrhaus, Treffensbucher Straße 12, 89180 Berghülen
END:VEVENT
BEGIN:VEVENT
DTSTAMP:20260421T234532
DTSTART;TZID=Europe/Berlin:20260319T080000
DTEND;TZID=Europe/Berlin:20260319T084500
UID:1W82464-20260319T080000@VHSLAICHINGEN
SUMMARY:English Playgroup Berghülen 3 bis 6 Jahre, für Anfänger*innen und Fortgeschrittene (1W82464) 
LOCATION:Berghülen; Feuerwehrhaus, Treffensbucher Straße 12, 89180 Berghülen
END:VEVENT
BEGIN:VEVENT
DTSTAMP:20260421T234532
DTSTART;TZID=Europe/Berlin:20260326T080000
DTEND;TZID=Europe/Berlin:20260326T084500
UID:1W82464-20260326T080000@VHSLAICHINGEN
SUMMARY:English Playgroup Berghülen 3 bis 6 Jahre, für Anfänger*innen und Fortgeschrittene (1W82464) 
LOCATION:Berghülen; Feuerwehrhaus, Treffensbucher Straße 12, 89180 Berghülen
END:VEVENT
BEGIN:VEVENT
DTSTAMP:20260421T234532
DTSTART;TZID=Europe/Berlin:20260416T080000
DTEND;TZID=Europe/Berlin:20260416T084500
UID:1W82464-20260416T080000@VHSLAICHINGEN
SUMMARY:English Playgroup Berghülen 3 bis 6 Jahre, für Anfänger*innen und Fortgeschrittene (1W82464) 
LOCATION:Berghülen; Feuerwehrhaus, Treffensbucher Straße 12, 89180 Berghülen
END:VEVENT
BEGIN:VEVENT
DTSTAMP:20260421T234532
DTSTART;TZID=Europe/Berlin:20260423T080000
DTEND;TZID=Europe/Berlin:20260423T084500
UID:1W82464-20260423T080000@VHSLAICHINGEN
SUMMARY:English Playgroup Berghülen 3 bis 6 Jahre, für Anfänger*innen und Fortgeschrittene (1W82464) 
LOCATION:Berghülen; Feuerwehrhaus, Treffensbucher Straße 12, 89180 Berghülen
END:VEVENT
BEGIN:VEVENT
DTSTAMP:20260421T234532
DTSTART;TZID=Europe/Berlin:20260430T080000
DTEND;TZID=Europe/Berlin:20260430T084500
UID:1W82464-20260430T080000@VHSLAICHINGEN
SUMMARY:English Playgroup Berghülen 3 bis 6 Jahre, für Anfänger*innen und Fortgeschrittene (1W82464) 
LOCATION:Berghülen; Feuerwehrhaus, Treffensbucher Straße 12, 89180 Berghülen
END:VEVENT
BEGIN:VEVENT
DTSTAMP:20260421T234532
DTSTART;TZID=Europe/Berlin:20260507T080000
DTEND;TZID=Europe/Berlin:20260507T084500
UID:1W82464-20260507T080000@VHSLAICHINGEN
SUMMARY:English Playgroup Berghülen 3 bis 6 Jahre, für Anfänger*innen und Fortgeschrittene (1W82464) 
LOCATION:Berghülen; Feuerwehrhaus, Treffensbucher Straße 12, 89180 Berghülen
END:VEVENT
BEGIN:VEVENT
DTSTAMP:20260421T234532
DTSTART;TZID=Europe/Berlin:20260521T080000
DTEND;TZID=Europe/Berlin:20260521T084500
UID:1W82464-20260521T080000@VHSLAICHINGEN
SUMMARY:English Playgroup Berghülen 3 bis 6 Jahre, für Anfänger*innen und Fortgeschrittene (1W82464) 
LOCATION:Berghülen; Feuerwehrhaus, Treffensbucher Straße 12, 89180 Berghülen
END:VEVENT
BEGIN:VEVENT
DTSTAMP:20260421T234532
DTSTART;TZID=Europe/Berlin:20260611T080000
DTEND;TZID=Europe/Berlin:20260611T084500
UID:1W82464-20260611T080000@VHSLAICHINGEN
SUMMARY:English Playgroup Berghülen 3 bis 6 Jahre, für Anfänger*innen und Fortgeschrittene (1W82464) 
LOCATION:Berghülen; Feuerwehrhaus, Treffensbucher Straße 12, 89180 Berghülen
END:VEVENT
BEGIN:VEVENT
DTSTAMP:20260421T234532
DTSTART;TZID=Europe/Berlin:20260618T080000
DTEND;TZID=Europe/Berlin:20260618T084500
UID:1W82464-20260618T080000@VHSLAICHINGEN
SUMMARY:English Playgroup Berghülen 3 bis 6 Jahre, für Anfänger*innen und Fortgeschrittene (1W82464) 
LOCATION:Berghülen; Feuerwehrhaus, Treffensbucher Straße 12, 89180 Berghülen
END:VEVENT
END:VCALENDAR