BEGIN:VCALENDAR
VERSION:2.0
PRODID:https://www.kufer.de/kuferweb / DE
METHOD:PUBLISH
CALSCALE:GREGORIAN
X-WR-TIMEZONE:Europe/Berlin
BEGIN:VTIMEZONE
TZID:Europe/Berlin
X-LIC-LOCATION:Europe/Berlin
BEGIN:DAYLIGHT
TZOFFSETFROM:+0100
TZOFFSETTO:+0200
TZNAME:CEST
DTSTART:19700329T020000
RRULE:FREQ=YEARLY;INTERVAL=1;BYDAY=-1SU;BYMONTH=3
END:DAYLIGHT
BEGIN:STANDARD
TZOFFSETFROM:+0200
TZOFFSETTO:+0100
TZNAME:CET
DTSTART:19701025T030000
RRULE:FREQ=YEARLY;INTERVAL=1;BYDAY=-1SU;BYMONTH=10
END:STANDARD
END:VTIMEZONE
BEGIN:VEVENT
DTSTAMP:20260419T151002
DTSTART;TZID=Europe/Berlin:20260227T143000
DTEND;TZID=Europe/Berlin:20260227T153000
UID:1W82370-20260227T143000@VHSLAICHINGEN
SUMMARY:It's Mini Disco Time - Kindertanz zu bekannten Kinder-Partyhits 4 bis 7 Jahre (1W82370) 
LOCATION:Blaubeuren; Altes Postamt, Kleiner Saal, Karlstraße 28, 89143 Blaubeuren
END:VEVENT
BEGIN:VEVENT
DTSTAMP:20260419T151002
DTSTART;TZID=Europe/Berlin:20260306T143000
DTEND;TZID=Europe/Berlin:20260306T153000
UID:1W82370-20260306T143000@VHSLAICHINGEN
SUMMARY:It's Mini Disco Time - Kindertanz zu bekannten Kinder-Partyhits 4 bis 7 Jahre (1W82370) 
LOCATION:Blaubeuren; Altes Postamt, Kleiner Saal, Karlstraße 28, 89143 Blaubeuren
END:VEVENT
BEGIN:VEVENT
DTSTAMP:20260419T151002
DTSTART;TZID=Europe/Berlin:20260313T143000
DTEND;TZID=Europe/Berlin:20260313T153000
UID:1W82370-20260313T143000@VHSLAICHINGEN
SUMMARY:It's Mini Disco Time - Kindertanz zu bekannten Kinder-Partyhits 4 bis 7 Jahre (1W82370) 
LOCATION:Blaubeuren; Altes Postamt, Kleiner Saal, Karlstraße 28, 89143 Blaubeuren
END:VEVENT
BEGIN:VEVENT
DTSTAMP:20260419T151002
DTSTART;TZID=Europe/Berlin:20260327T143000
DTEND;TZID=Europe/Berlin:20260327T153000
UID:1W82370-20260327T143000@VHSLAICHINGEN
SUMMARY:It's Mini Disco Time - Kindertanz zu bekannten Kinder-Partyhits 4 bis 7 Jahre (1W82370) 
LOCATION:Blaubeuren; Altes Postamt, Kleiner Saal, Karlstraße 28, 89143 Blaubeuren
END:VEVENT
BEGIN:VEVENT
DTSTAMP:20260419T151002
DTSTART;TZID=Europe/Berlin:20260417T143000
DTEND;TZID=Europe/Berlin:20260417T153000
UID:1W82370-20260417T143000@VHSLAICHINGEN
DESCRIPTION:für 20.03. KL krank
SUMMARY:It's Mini Disco Time - Kindertanz zu bekannten Kinder-Partyhits 4 bis 7 Jahre (1W82370) 
LOCATION:Blaubeuren; Altes Postamt, Kleiner Saal, Karlstraße 28, 89143 Blaubeuren
END:VEVENT
END:VCALENDAR