BEGIN:VCALENDAR
VERSION:2.0
PRODID:https://www.kufer.de/kuferweb / DE
METHOD:PUBLISH
CALSCALE:GREGORIAN
X-WR-TIMEZONE:Europe/Berlin
BEGIN:VTIMEZONE
TZID:Europe/Berlin
X-LIC-LOCATION:Europe/Berlin
BEGIN:DAYLIGHT
TZOFFSETFROM:+0100
TZOFFSETTO:+0200
TZNAME:CEST
DTSTART:19700329T020000
RRULE:FREQ=YEARLY;INTERVAL=1;BYDAY=-1SU;BYMONTH=3
END:DAYLIGHT
BEGIN:STANDARD
TZOFFSETFROM:+0200
TZOFFSETTO:+0100
TZNAME:CET
DTSTART:19701025T030000
RRULE:FREQ=YEARLY;INTERVAL=1;BYDAY=-1SU;BYMONTH=10
END:STANDARD
END:VTIMEZONE
BEGIN:VEVENT
DTSTAMP:20260419T151027
DTSTART;TZID=Europe/Berlin:20260225T083000
DTEND;TZID=Europe/Berlin:20260225T115000
UID:1W81104-20260225T083000@VHSLAICHINGEN
SUMMARY:Spielstuben der vhs Blaubeuren - 2- tägig (1W81104) 
LOCATION:Blaubeuren; Spielstube, Auf dem Graben 11, Auf dem Graben 11, 89143 Blaubeuren
END:VEVENT
BEGIN:VEVENT
DTSTAMP:20260419T151027
DTSTART;TZID=Europe/Berlin:20260225T083000
DTEND;TZID=Europe/Berlin:20260225T115000
UID:1W81104-20260225T083000@VHSLAICHINGEN
SUMMARY:Spielstuben der vhs Blaubeuren - 2- tägig (1W81104) 
LOCATION:Blaubeuren; Spielstube, Auf dem Graben 11, Auf dem Graben 11, 89143 Blaubeuren
END:VEVENT
BEGIN:VEVENT
DTSTAMP:20260419T151027
DTSTART;TZID=Europe/Berlin:20260227T083000
DTEND;TZID=Europe/Berlin:20260227T115000
UID:1W81104-20260227T083000@VHSLAICHINGEN
SUMMARY:Spielstuben der vhs Blaubeuren - 2- tägig (1W81104) 
LOCATION:Blaubeuren; Spielstube, Auf dem Graben 11, Auf dem Graben 11, 89143 Blaubeuren
END:VEVENT
BEGIN:VEVENT
DTSTAMP:20260419T151027
DTSTART;TZID=Europe/Berlin:20260227T083000
DTEND;TZID=Europe/Berlin:20260227T115000
UID:1W81104-20260227T083000@VHSLAICHINGEN
SUMMARY:Spielstuben der vhs Blaubeuren - 2- tägig (1W81104) 
LOCATION:Blaubeuren; Spielstube, Auf dem Graben 11, Auf dem Graben 11, 89143 Blaubeuren
END:VEVENT
BEGIN:VEVENT
DTSTAMP:20260419T151027
DTSTART;TZID=Europe/Berlin:20260304T083000
DTEND;TZID=Europe/Berlin:20260304T115000
UID:1W81104-20260304T083000@VHSLAICHINGEN
SUMMARY:Spielstuben der vhs Blaubeuren - 2- tägig (1W81104) 
LOCATION:Blaubeuren; Spielstube, Auf dem Graben 11, Auf dem Graben 11, 89143 Blaubeuren
END:VEVENT
BEGIN:VEVENT
DTSTAMP:20260419T151027
DTSTART;TZID=Europe/Berlin:20260304T083000
DTEND;TZID=Europe/Berlin:20260304T115000
UID:1W81104-20260304T083000@VHSLAICHINGEN
SUMMARY:Spielstuben der vhs Blaubeuren - 2- tägig (1W81104) 
LOCATION:Blaubeuren; Spielstube, Auf dem Graben 11, Auf dem Graben 11, 89143 Blaubeuren
END:VEVENT
BEGIN:VEVENT
DTSTAMP:20260419T151027
DTSTART;TZID=Europe/Berlin:20260306T083000
DTEND;TZID=Europe/Berlin:20260306T115000
UID:1W81104-20260306T083000@VHSLAICHINGEN
SUMMARY:Spielstuben der vhs Blaubeuren - 2- tägig (1W81104) 
LOCATION:Blaubeuren; Spielstube, Auf dem Graben 11, Auf dem Graben 11, 89143 Blaubeuren
END:VEVENT
BEGIN:VEVENT
DTSTAMP:20260419T151027
DTSTART;TZID=Europe/Berlin:20260306T083000
DTEND;TZID=Europe/Berlin:20260306T115000
UID:1W81104-20260306T083000@VHSLAICHINGEN
SUMMARY:Spielstuben der vhs Blaubeuren - 2- tägig (1W81104) 
LOCATION:Blaubeuren; Spielstube, Auf dem Graben 11, Auf dem Graben 11, 89143 Blaubeuren
END:VEVENT
BEGIN:VEVENT
DTSTAMP:20260419T151027
DTSTART;TZID=Europe/Berlin:20260311T083000
DTEND;TZID=Europe/Berlin:20260311T115000
UID:1W81104-20260311T083000@VHSLAICHINGEN
SUMMARY:Spielstuben der vhs Blaubeuren - 2- tägig (1W81104) 
LOCATION:Blaubeuren; Spielstube, Auf dem Graben 11, Auf dem Graben 11, 89143 Blaubeuren
END:VEVENT
BEGIN:VEVENT
DTSTAMP:20260419T151027
DTSTART;TZID=Europe/Berlin:20260311T083000
DTEND;TZID=Europe/Berlin:20260311T115000
UID:1W81104-20260311T083000@VHSLAICHINGEN
SUMMARY:Spielstuben der vhs Blaubeuren - 2- tägig (1W81104) 
LOCATION:Blaubeuren; Spielstube, Auf dem Graben 11, Auf dem Graben 11, 89143 Blaubeuren
END:VEVENT
BEGIN:VEVENT
DTSTAMP:20260419T151027
DTSTART;TZID=Europe/Berlin:20260313T083000
DTEND;TZID=Europe/Berlin:20260313T115000
UID:1W81104-20260313T083000@VHSLAICHINGEN
DESCRIPTION:für Sarah Iseni
SUMMARY:Spielstuben der vhs Blaubeuren - 2- tägig (1W81104) 
LOCATION:Blaubeuren; Spielstube, Auf dem Graben 11, Auf dem Graben 11, 89143 Blaubeuren
END:VEVENT
BEGIN:VEVENT
DTSTAMP:20260419T151027
DTSTART;TZID=Europe/Berlin:20260313T083000
DTEND;TZID=Europe/Berlin:20260313T115000
UID:1W81104-20260313T083000@VHSLAICHINGEN
SUMMARY:Spielstuben der vhs Blaubeuren - 2- tägig (1W81104) 
LOCATION:Blaubeuren; Spielstube, Auf dem Graben 11, Auf dem Graben 11, 89143 Blaubeuren
END:VEVENT
BEGIN:VEVENT
DTSTAMP:20260419T151027
DTSTART;TZID=Europe/Berlin:20260318T083000
DTEND;TZID=Europe/Berlin:20260318T115000
UID:1W81104-20260318T083000@VHSLAICHINGEN
SUMMARY:Spielstuben der vhs Blaubeuren - 2- tägig (1W81104) 
LOCATION:Blaubeuren; Spielstube, Auf dem Graben 11, Auf dem Graben 11, 89143 Blaubeuren
END:VEVENT
BEGIN:VEVENT
DTSTAMP:20260419T151027
DTSTART;TZID=Europe/Berlin:20260318T083000
DTEND;TZID=Europe/Berlin:20260318T115000
UID:1W81104-20260318T083000@VHSLAICHINGEN
SUMMARY:Spielstuben der vhs Blaubeuren - 2- tägig (1W81104) 
LOCATION:Blaubeuren; Spielstube, Auf dem Graben 11, Auf dem Graben 11, 89143 Blaubeuren
END:VEVENT
BEGIN:VEVENT
DTSTAMP:20260419T151027
DTSTART;TZID=Europe/Berlin:20260320T083000
DTEND;TZID=Europe/Berlin:20260320T115000
UID:1W81104-20260320T083000@VHSLAICHINGEN
SUMMARY:Spielstuben der vhs Blaubeuren - 2- tägig (1W81104) 
LOCATION:Blaubeuren; Spielstube, Auf dem Graben 11, Auf dem Graben 11, 89143 Blaubeuren
END:VEVENT
BEGIN:VEVENT
DTSTAMP:20260419T151027
DTSTART;TZID=Europe/Berlin:20260320T083000
DTEND;TZID=Europe/Berlin:20260320T115000
UID:1W81104-20260320T083000@VHSLAICHINGEN
SUMMARY:Spielstuben der vhs Blaubeuren - 2- tägig (1W81104) 
LOCATION:Blaubeuren; Spielstube, Auf dem Graben 11, Auf dem Graben 11, 89143 Blaubeuren
END:VEVENT
BEGIN:VEVENT
DTSTAMP:20260419T151027
DTSTART;TZID=Europe/Berlin:20260325T083000
DTEND;TZID=Europe/Berlin:20260325T115000
UID:1W81104-20260325T083000@VHSLAICHINGEN
SUMMARY:Spielstuben der vhs Blaubeuren - 2- tägig (1W81104) 
LOCATION:Blaubeuren; Spielstube, Auf dem Graben 11, Auf dem Graben 11, 89143 Blaubeuren
END:VEVENT
BEGIN:VEVENT
DTSTAMP:20260419T151027
DTSTART;TZID=Europe/Berlin:20260325T083000
DTEND;TZID=Europe/Berlin:20260325T115000
UID:1W81104-20260325T083000@VHSLAICHINGEN
SUMMARY:Spielstuben der vhs Blaubeuren - 2- tägig (1W81104) 
LOCATION:Blaubeuren; Spielstube, Auf dem Graben 11, Auf dem Graben 11, 89143 Blaubeuren
END:VEVENT
BEGIN:VEVENT
DTSTAMP:20260419T151027
DTSTART;TZID=Europe/Berlin:20260327T083000
DTEND;TZID=Europe/Berlin:20260327T115000
UID:1W81104-20260327T083000@VHSLAICHINGEN
SUMMARY:Spielstuben der vhs Blaubeuren - 2- tägig (1W81104) 
LOCATION:Blaubeuren; Spielstube, Auf dem Graben 11, Auf dem Graben 11, 89143 Blaubeuren
END:VEVENT
BEGIN:VEVENT
DTSTAMP:20260419T151027
DTSTART;TZID=Europe/Berlin:20260327T083000
DTEND;TZID=Europe/Berlin:20260327T115000
UID:1W81104-20260327T083000@VHSLAICHINGEN
SUMMARY:Spielstuben der vhs Blaubeuren - 2- tägig (1W81104) 
LOCATION:Blaubeuren; Spielstube, Auf dem Graben 11, Auf dem Graben 11, 89143 Blaubeuren
END:VEVENT
BEGIN:VEVENT
DTSTAMP:20260419T151027
DTSTART;TZID=Europe/Berlin:20260415T083000
DTEND;TZID=Europe/Berlin:20260415T115000
UID:1W81104-20260415T083000@VHSLAICHINGEN
SUMMARY:Spielstuben der vhs Blaubeuren - 2- tägig (1W81104) 
LOCATION:Blaubeuren; Spielstube, Auf dem Graben 11, Auf dem Graben 11, 89143 Blaubeuren
END:VEVENT
BEGIN:VEVENT
DTSTAMP:20260419T151027
DTSTART;TZID=Europe/Berlin:20260415T083000
DTEND;TZID=Europe/Berlin:20260415T115000
UID:1W81104-20260415T083000@VHSLAICHINGEN
SUMMARY:Spielstuben der vhs Blaubeuren - 2- tägig (1W81104) 
LOCATION:Blaubeuren; Spielstube, Auf dem Graben 11, Auf dem Graben 11, 89143 Blaubeuren
END:VEVENT
BEGIN:VEVENT
DTSTAMP:20260419T151027
DTSTART;TZID=Europe/Berlin:20260417T083000
DTEND;TZID=Europe/Berlin:20260417T115000
UID:1W81104-20260417T083000@VHSLAICHINGEN
SUMMARY:Spielstuben der vhs Blaubeuren - 2- tägig (1W81104) 
LOCATION:Blaubeuren; Spielstube, Auf dem Graben 11, Auf dem Graben 11, 89143 Blaubeuren
END:VEVENT
BEGIN:VEVENT
DTSTAMP:20260419T151027
DTSTART;TZID=Europe/Berlin:20260417T083000
DTEND;TZID=Europe/Berlin:20260417T115000
UID:1W81104-20260417T083000@VHSLAICHINGEN
SUMMARY:Spielstuben der vhs Blaubeuren - 2- tägig (1W81104) 
LOCATION:Blaubeuren; Spielstube, Auf dem Graben 11, Auf dem Graben 11, 89143 Blaubeuren
END:VEVENT
BEGIN:VEVENT
DTSTAMP:20260419T151027
DTSTART;TZID=Europe/Berlin:20260422T083000
DTEND;TZID=Europe/Berlin:20260422T115000
UID:1W81104-20260422T083000@VHSLAICHINGEN
SUMMARY:Spielstuben der vhs Blaubeuren - 2- tägig (1W81104) 
LOCATION:Blaubeuren; Spielstube, Auf dem Graben 11, Auf dem Graben 11, 89143 Blaubeuren
END:VEVENT
BEGIN:VEVENT
DTSTAMP:20260419T151027
DTSTART;TZID=Europe/Berlin:20260422T083000
DTEND;TZID=Europe/Berlin:20260422T115000
UID:1W81104-20260422T083000@VHSLAICHINGEN
SUMMARY:Spielstuben der vhs Blaubeuren - 2- tägig (1W81104) 
LOCATION:Blaubeuren; Spielstube, Auf dem Graben 11, Auf dem Graben 11, 89143 Blaubeuren
END:VEVENT
BEGIN:VEVENT
DTSTAMP:20260419T151027
DTSTART;TZID=Europe/Berlin:20260424T083000
DTEND;TZID=Europe/Berlin:20260424T115000
UID:1W81104-20260424T083000@VHSLAICHINGEN
SUMMARY:Spielstuben der vhs Blaubeuren - 2- tägig (1W81104) 
LOCATION:Blaubeuren; Spielstube, Auf dem Graben 11, Auf dem Graben 11, 89143 Blaubeuren
END:VEVENT
BEGIN:VEVENT
DTSTAMP:20260419T151027
DTSTART;TZID=Europe/Berlin:20260424T083000
DTEND;TZID=Europe/Berlin:20260424T115000
UID:1W81104-20260424T083000@VHSLAICHINGEN
SUMMARY:Spielstuben der vhs Blaubeuren - 2- tägig (1W81104) 
LOCATION:Blaubeuren; Spielstube, Auf dem Graben 11, Auf dem Graben 11, 89143 Blaubeuren
END:VEVENT
BEGIN:VEVENT
DTSTAMP:20260419T151027
DTSTART;TZID=Europe/Berlin:20260429T083000
DTEND;TZID=Europe/Berlin:20260429T115000
UID:1W81104-20260429T083000@VHSLAICHINGEN
SUMMARY:Spielstuben der vhs Blaubeuren - 2- tägig (1W81104) 
LOCATION:Blaubeuren; Spielstube, Auf dem Graben 11, Auf dem Graben 11, 89143 Blaubeuren
END:VEVENT
BEGIN:VEVENT
DTSTAMP:20260419T151027
DTSTART;TZID=Europe/Berlin:20260429T083000
DTEND;TZID=Europe/Berlin:20260429T115000
UID:1W81104-20260429T083000@VHSLAICHINGEN
SUMMARY:Spielstuben der vhs Blaubeuren - 2- tägig (1W81104) 
LOCATION:Blaubeuren; Spielstube, Auf dem Graben 11, Auf dem Graben 11, 89143 Blaubeuren
END:VEVENT
BEGIN:VEVENT
DTSTAMP:20260419T151027
DTSTART;TZID=Europe/Berlin:20260506T083000
DTEND;TZID=Europe/Berlin:20260506T115000
UID:1W81104-20260506T083000@VHSLAICHINGEN
SUMMARY:Spielstuben der vhs Blaubeuren - 2- tägig (1W81104) 
LOCATION:Blaubeuren; Spielstube, Auf dem Graben 11, Auf dem Graben 11, 89143 Blaubeuren
END:VEVENT
BEGIN:VEVENT
DTSTAMP:20260419T151027
DTSTART;TZID=Europe/Berlin:20260506T083000
DTEND;TZID=Europe/Berlin:20260506T115000
UID:1W81104-20260506T083000@VHSLAICHINGEN
SUMMARY:Spielstuben der vhs Blaubeuren - 2- tägig (1W81104) 
LOCATION:Blaubeuren; Spielstube, Auf dem Graben 11, Auf dem Graben 11, 89143 Blaubeuren
END:VEVENT
BEGIN:VEVENT
DTSTAMP:20260419T151027
DTSTART;TZID=Europe/Berlin:20260508T083000
DTEND;TZID=Europe/Berlin:20260508T115000
UID:1W81104-20260508T083000@VHSLAICHINGEN
SUMMARY:Spielstuben der vhs Blaubeuren - 2- tägig (1W81104) 
LOCATION:Blaubeuren; Spielstube, Auf dem Graben 11, Auf dem Graben 11, 89143 Blaubeuren
END:VEVENT
BEGIN:VEVENT
DTSTAMP:20260419T151027
DTSTART;TZID=Europe/Berlin:20260508T083000
DTEND;TZID=Europe/Berlin:20260508T115000
UID:1W81104-20260508T083000@VHSLAICHINGEN
SUMMARY:Spielstuben der vhs Blaubeuren - 2- tägig (1W81104) 
LOCATION:Blaubeuren; Spielstube, Auf dem Graben 11, Auf dem Graben 11, 89143 Blaubeuren
END:VEVENT
BEGIN:VEVENT
DTSTAMP:20260419T151027
DTSTART;TZID=Europe/Berlin:20260513T083000
DTEND;TZID=Europe/Berlin:20260513T115000
UID:1W81104-20260513T083000@VHSLAICHINGEN
SUMMARY:Spielstuben der vhs Blaubeuren - 2- tägig (1W81104) 
LOCATION:Blaubeuren; Spielstube, Auf dem Graben 11, Auf dem Graben 11, 89143 Blaubeuren
END:VEVENT
BEGIN:VEVENT
DTSTAMP:20260419T151027
DTSTART;TZID=Europe/Berlin:20260513T083000
DTEND;TZID=Europe/Berlin:20260513T115000
UID:1W81104-20260513T083000@VHSLAICHINGEN
SUMMARY:Spielstuben der vhs Blaubeuren - 2- tägig (1W81104) 
LOCATION:Blaubeuren; Spielstube, Auf dem Graben 11, Auf dem Graben 11, 89143 Blaubeuren
END:VEVENT
BEGIN:VEVENT
DTSTAMP:20260419T151027
DTSTART;TZID=Europe/Berlin:20260520T083000
DTEND;TZID=Europe/Berlin:20260520T115000
UID:1W81104-20260520T083000@VHSLAICHINGEN
SUMMARY:Spielstuben der vhs Blaubeuren - 2- tägig (1W81104) 
LOCATION:Blaubeuren; Spielstube, Auf dem Graben 11, Auf dem Graben 11, 89143 Blaubeuren
END:VEVENT
BEGIN:VEVENT
DTSTAMP:20260419T151027
DTSTART;TZID=Europe/Berlin:20260520T083000
DTEND;TZID=Europe/Berlin:20260520T115000
UID:1W81104-20260520T083000@VHSLAICHINGEN
SUMMARY:Spielstuben der vhs Blaubeuren - 2- tägig (1W81104) 
LOCATION:Blaubeuren; Spielstube, Auf dem Graben 11, Auf dem Graben 11, 89143 Blaubeuren
END:VEVENT
BEGIN:VEVENT
DTSTAMP:20260419T151027
DTSTART;TZID=Europe/Berlin:20260522T083000
DTEND;TZID=Europe/Berlin:20260522T115000
UID:1W81104-20260522T083000@VHSLAICHINGEN
SUMMARY:Spielstuben der vhs Blaubeuren - 2- tägig (1W81104) 
LOCATION:Blaubeuren; Spielstube, Auf dem Graben 11, Auf dem Graben 11, 89143 Blaubeuren
END:VEVENT
BEGIN:VEVENT
DTSTAMP:20260419T151027
DTSTART;TZID=Europe/Berlin:20260522T083000
DTEND;TZID=Europe/Berlin:20260522T115000
UID:1W81104-20260522T083000@VHSLAICHINGEN
SUMMARY:Spielstuben der vhs Blaubeuren - 2- tägig (1W81104) 
LOCATION:Blaubeuren; Spielstube, Auf dem Graben 11, Auf dem Graben 11, 89143 Blaubeuren
END:VEVENT
BEGIN:VEVENT
DTSTAMP:20260419T151027
DTSTART;TZID=Europe/Berlin:20260610T083000
DTEND;TZID=Europe/Berlin:20260610T115000
UID:1W81104-20260610T083000@VHSLAICHINGEN
SUMMARY:Spielstuben der vhs Blaubeuren - 2- tägig (1W81104) 
LOCATION:Blaubeuren; Spielstube, Auf dem Graben 11, Auf dem Graben 11, 89143 Blaubeuren
END:VEVENT
BEGIN:VEVENT
DTSTAMP:20260419T151027
DTSTART;TZID=Europe/Berlin:20260610T083000
DTEND;TZID=Europe/Berlin:20260610T115000
UID:1W81104-20260610T083000@VHSLAICHINGEN
SUMMARY:Spielstuben der vhs Blaubeuren - 2- tägig (1W81104) 
LOCATION:Blaubeuren; Spielstube, Auf dem Graben 11, Auf dem Graben 11, 89143 Blaubeuren
END:VEVENT
BEGIN:VEVENT
DTSTAMP:20260419T151027
DTSTART;TZID=Europe/Berlin:20260612T083000
DTEND;TZID=Europe/Berlin:20260612T115000
UID:1W81104-20260612T083000@VHSLAICHINGEN
SUMMARY:Spielstuben der vhs Blaubeuren - 2- tägig (1W81104) 
LOCATION:Blaubeuren; Spielstube, Auf dem Graben 11, Auf dem Graben 11, 89143 Blaubeuren
END:VEVENT
BEGIN:VEVENT
DTSTAMP:20260419T151027
DTSTART;TZID=Europe/Berlin:20260612T083000
DTEND;TZID=Europe/Berlin:20260612T115000
UID:1W81104-20260612T083000@VHSLAICHINGEN
SUMMARY:Spielstuben der vhs Blaubeuren - 2- tägig (1W81104) 
LOCATION:Blaubeuren; Spielstube, Auf dem Graben 11, Auf dem Graben 11, 89143 Blaubeuren
END:VEVENT
BEGIN:VEVENT
DTSTAMP:20260419T151027
DTSTART;TZID=Europe/Berlin:20260617T083000
DTEND;TZID=Europe/Berlin:20260617T115000
UID:1W81104-20260617T083000@VHSLAICHINGEN
SUMMARY:Spielstuben der vhs Blaubeuren - 2- tägig (1W81104) 
LOCATION:Blaubeuren; Spielstube, Auf dem Graben 11, Auf dem Graben 11, 89143 Blaubeuren
END:VEVENT
BEGIN:VEVENT
DTSTAMP:20260419T151027
DTSTART;TZID=Europe/Berlin:20260617T083000
DTEND;TZID=Europe/Berlin:20260617T115000
UID:1W81104-20260617T083000@VHSLAICHINGEN
SUMMARY:Spielstuben der vhs Blaubeuren - 2- tägig (1W81104) 
LOCATION:Blaubeuren; Spielstube, Auf dem Graben 11, Auf dem Graben 11, 89143 Blaubeuren
END:VEVENT
BEGIN:VEVENT
DTSTAMP:20260419T151027
DTSTART;TZID=Europe/Berlin:20260619T083000
DTEND;TZID=Europe/Berlin:20260619T115000
UID:1W81104-20260619T083000@VHSLAICHINGEN
SUMMARY:Spielstuben der vhs Blaubeuren - 2- tägig (1W81104) 
LOCATION:Blaubeuren; Spielstube, Auf dem Graben 11, Auf dem Graben 11, 89143 Blaubeuren
END:VEVENT
BEGIN:VEVENT
DTSTAMP:20260419T151027
DTSTART;TZID=Europe/Berlin:20260619T083000
DTEND;TZID=Europe/Berlin:20260619T115000
UID:1W81104-20260619T083000@VHSLAICHINGEN
SUMMARY:Spielstuben der vhs Blaubeuren - 2- tägig (1W81104) 
LOCATION:Blaubeuren; Spielstube, Auf dem Graben 11, Auf dem Graben 11, 89143 Blaubeuren
END:VEVENT
BEGIN:VEVENT
DTSTAMP:20260419T151027
DTSTART;TZID=Europe/Berlin:20260624T083000
DTEND;TZID=Europe/Berlin:20260624T115000
UID:1W81104-20260624T083000@VHSLAICHINGEN
SUMMARY:Spielstuben der vhs Blaubeuren - 2- tägig (1W81104) 
LOCATION:Blaubeuren; Spielstube, Auf dem Graben 11, Auf dem Graben 11, 89143 Blaubeuren
END:VEVENT
BEGIN:VEVENT
DTSTAMP:20260419T151027
DTSTART;TZID=Europe/Berlin:20260624T083000
DTEND;TZID=Europe/Berlin:20260624T115000
UID:1W81104-20260624T083000@VHSLAICHINGEN
SUMMARY:Spielstuben der vhs Blaubeuren - 2- tägig (1W81104) 
LOCATION:Blaubeuren; Spielstube, Auf dem Graben 11, Auf dem Graben 11, 89143 Blaubeuren
END:VEVENT
BEGIN:VEVENT
DTSTAMP:20260419T151027
DTSTART;TZID=Europe/Berlin:20260626T083000
DTEND;TZID=Europe/Berlin:20260626T115000
UID:1W81104-20260626T083000@VHSLAICHINGEN
SUMMARY:Spielstuben der vhs Blaubeuren - 2- tägig (1W81104) 
LOCATION:Blaubeuren; Spielstube, Auf dem Graben 11, Auf dem Graben 11, 89143 Blaubeuren
END:VEVENT
BEGIN:VEVENT
DTSTAMP:20260419T151027
DTSTART;TZID=Europe/Berlin:20260626T083000
DTEND;TZID=Europe/Berlin:20260626T115000
UID:1W81104-20260626T083000@VHSLAICHINGEN
SUMMARY:Spielstuben der vhs Blaubeuren - 2- tägig (1W81104) 
LOCATION:Blaubeuren; Spielstube, Auf dem Graben 11, Auf dem Graben 11, 89143 Blaubeuren
END:VEVENT
BEGIN:VEVENT
DTSTAMP:20260419T151027
DTSTART;TZID=Europe/Berlin:20260701T083000
DTEND;TZID=Europe/Berlin:20260701T115000
UID:1W81104-20260701T083000@VHSLAICHINGEN
SUMMARY:Spielstuben der vhs Blaubeuren - 2- tägig (1W81104) 
LOCATION:Blaubeuren; Spielstube, Auf dem Graben 11, Auf dem Graben 11, 89143 Blaubeuren
END:VEVENT
BEGIN:VEVENT
DTSTAMP:20260419T151027
DTSTART;TZID=Europe/Berlin:20260701T083000
DTEND;TZID=Europe/Berlin:20260701T115000
UID:1W81104-20260701T083000@VHSLAICHINGEN
SUMMARY:Spielstuben der vhs Blaubeuren - 2- tägig (1W81104) 
LOCATION:Blaubeuren; Spielstube, Auf dem Graben 11, Auf dem Graben 11, 89143 Blaubeuren
END:VEVENT
BEGIN:VEVENT
DTSTAMP:20260419T151027
DTSTART;TZID=Europe/Berlin:20260703T083000
DTEND;TZID=Europe/Berlin:20260703T115000
UID:1W81104-20260703T083000@VHSLAICHINGEN
SUMMARY:Spielstuben der vhs Blaubeuren - 2- tägig (1W81104) 
LOCATION:Blaubeuren; Spielstube, Auf dem Graben 11, Auf dem Graben 11, 89143 Blaubeuren
END:VEVENT
BEGIN:VEVENT
DTSTAMP:20260419T151027
DTSTART;TZID=Europe/Berlin:20260703T083000
DTEND;TZID=Europe/Berlin:20260703T115000
UID:1W81104-20260703T083000@VHSLAICHINGEN
SUMMARY:Spielstuben der vhs Blaubeuren - 2- tägig (1W81104) 
LOCATION:Blaubeuren; Spielstube, Auf dem Graben 11, Auf dem Graben 11, 89143 Blaubeuren
END:VEVENT
BEGIN:VEVENT
DTSTAMP:20260419T151027
DTSTART;TZID=Europe/Berlin:20260708T083000
DTEND;TZID=Europe/Berlin:20260708T115000
UID:1W81104-20260708T083000@VHSLAICHINGEN
SUMMARY:Spielstuben der vhs Blaubeuren - 2- tägig (1W81104) 
LOCATION:Blaubeuren; Spielstube, Auf dem Graben 11, Auf dem Graben 11, 89143 Blaubeuren
END:VEVENT
BEGIN:VEVENT
DTSTAMP:20260419T151027
DTSTART;TZID=Europe/Berlin:20260708T083000
DTEND;TZID=Europe/Berlin:20260708T115000
UID:1W81104-20260708T083000@VHSLAICHINGEN
SUMMARY:Spielstuben der vhs Blaubeuren - 2- tägig (1W81104) 
LOCATION:Blaubeuren; Spielstube, Auf dem Graben 11, Auf dem Graben 11, 89143 Blaubeuren
END:VEVENT
BEGIN:VEVENT
DTSTAMP:20260419T151027
DTSTART;TZID=Europe/Berlin:20260710T083000
DTEND;TZID=Europe/Berlin:20260710T115000
UID:1W81104-20260710T083000@VHSLAICHINGEN
SUMMARY:Spielstuben der vhs Blaubeuren - 2- tägig (1W81104) 
LOCATION:Blaubeuren; Spielstube, Auf dem Graben 11, Auf dem Graben 11, 89143 Blaubeuren
END:VEVENT
BEGIN:VEVENT
DTSTAMP:20260419T151027
DTSTART;TZID=Europe/Berlin:20260710T083000
DTEND;TZID=Europe/Berlin:20260710T115000
UID:1W81104-20260710T083000@VHSLAICHINGEN
SUMMARY:Spielstuben der vhs Blaubeuren - 2- tägig (1W81104) 
LOCATION:Blaubeuren; Spielstube, Auf dem Graben 11, Auf dem Graben 11, 89143 Blaubeuren
END:VEVENT
BEGIN:VEVENT
DTSTAMP:20260419T151027
DTSTART;TZID=Europe/Berlin:20260715T083000
DTEND;TZID=Europe/Berlin:20260715T115000
UID:1W81104-20260715T083000@VHSLAICHINGEN
SUMMARY:Spielstuben der vhs Blaubeuren - 2- tägig (1W81104) 
LOCATION:Blaubeuren; Spielstube, Auf dem Graben 11, Auf dem Graben 11, 89143 Blaubeuren
END:VEVENT
BEGIN:VEVENT
DTSTAMP:20260419T151027
DTSTART;TZID=Europe/Berlin:20260715T083000
DTEND;TZID=Europe/Berlin:20260715T115000
UID:1W81104-20260715T083000@VHSLAICHINGEN
SUMMARY:Spielstuben der vhs Blaubeuren - 2- tägig (1W81104) 
LOCATION:Blaubeuren; Spielstube, Auf dem Graben 11, Auf dem Graben 11, 89143 Blaubeuren
END:VEVENT
BEGIN:VEVENT
DTSTAMP:20260419T151027
DTSTART;TZID=Europe/Berlin:20260717T083000
DTEND;TZID=Europe/Berlin:20260717T115000
UID:1W81104-20260717T083000@VHSLAICHINGEN
SUMMARY:Spielstuben der vhs Blaubeuren - 2- tägig (1W81104) 
LOCATION:Blaubeuren; Spielstube, Auf dem Graben 11, Auf dem Graben 11, 89143 Blaubeuren
END:VEVENT
BEGIN:VEVENT
DTSTAMP:20260419T151027
DTSTART;TZID=Europe/Berlin:20260717T083000
DTEND;TZID=Europe/Berlin:20260717T115000
UID:1W81104-20260717T083000@VHSLAICHINGEN
SUMMARY:Spielstuben der vhs Blaubeuren - 2- tägig (1W81104) 
LOCATION:Blaubeuren; Spielstube, Auf dem Graben 11, Auf dem Graben 11, 89143 Blaubeuren
END:VEVENT
BEGIN:VEVENT
DTSTAMP:20260419T151027
DTSTART;TZID=Europe/Berlin:20260722T083000
DTEND;TZID=Europe/Berlin:20260722T115000
UID:1W81104-20260722T083000@VHSLAICHINGEN
SUMMARY:Spielstuben der vhs Blaubeuren - 2- tägig (1W81104) 
LOCATION:Blaubeuren; Spielstube, Auf dem Graben 11, Auf dem Graben 11, 89143 Blaubeuren
END:VEVENT
BEGIN:VEVENT
DTSTAMP:20260419T151027
DTSTART;TZID=Europe/Berlin:20260722T083000
DTEND;TZID=Europe/Berlin:20260722T115000
UID:1W81104-20260722T083000@VHSLAICHINGEN
SUMMARY:Spielstuben der vhs Blaubeuren - 2- tägig (1W81104) 
LOCATION:Blaubeuren; Spielstube, Auf dem Graben 11, Auf dem Graben 11, 89143 Blaubeuren
END:VEVENT
BEGIN:VEVENT
DTSTAMP:20260419T151027
DTSTART;TZID=Europe/Berlin:20260724T083000
DTEND;TZID=Europe/Berlin:20260724T115000
UID:1W81104-20260724T083000@VHSLAICHINGEN
SUMMARY:Spielstuben der vhs Blaubeuren - 2- tägig (1W81104) 
LOCATION:Blaubeuren; Spielstube, Auf dem Graben 11, Auf dem Graben 11, 89143 Blaubeuren
END:VEVENT
BEGIN:VEVENT
DTSTAMP:20260419T151027
DTSTART;TZID=Europe/Berlin:20260724T083000
DTEND;TZID=Europe/Berlin:20260724T115000
UID:1W81104-20260724T083000@VHSLAICHINGEN
SUMMARY:Spielstuben der vhs Blaubeuren - 2- tägig (1W81104) 
LOCATION:Blaubeuren; Spielstube, Auf dem Graben 11, Auf dem Graben 11, 89143 Blaubeuren
END:VEVENT
BEGIN:VEVENT
DTSTAMP:20260419T151027
DTSTART;TZID=Europe/Berlin:20260729T083000
DTEND;TZID=Europe/Berlin:20260729T115000
UID:1W81104-20260729T083000@VHSLAICHINGEN
SUMMARY:Spielstuben der vhs Blaubeuren - 2- tägig (1W81104) 
LOCATION:Blaubeuren; Spielstube, Auf dem Graben 11, Auf dem Graben 11, 89143 Blaubeuren
END:VEVENT
BEGIN:VEVENT
DTSTAMP:20260419T151027
DTSTART;TZID=Europe/Berlin:20260729T083000
DTEND;TZID=Europe/Berlin:20260729T115000
UID:1W81104-20260729T083000@VHSLAICHINGEN
SUMMARY:Spielstuben der vhs Blaubeuren - 2- tägig (1W81104) 
LOCATION:Blaubeuren; Spielstube, Auf dem Graben 11, Auf dem Graben 11, 89143 Blaubeuren
END:VEVENT
END:VCALENDAR