BEGIN:VCALENDAR
VERSION:2.0
PRODID:https://www.kufer.de/kuferweb / DE
METHOD:PUBLISH
CALSCALE:GREGORIAN
X-WR-TIMEZONE:Europe/Berlin
BEGIN:VTIMEZONE
TZID:Europe/Berlin
X-LIC-LOCATION:Europe/Berlin
BEGIN:DAYLIGHT
TZOFFSETFROM:+0100
TZOFFSETTO:+0200
TZNAME:CEST
DTSTART:19700329T020000
RRULE:FREQ=YEARLY;INTERVAL=1;BYDAY=-1SU;BYMONTH=3
END:DAYLIGHT
BEGIN:STANDARD
TZOFFSETFROM:+0200
TZOFFSETTO:+0100
TZNAME:CET
DTSTART:19701025T030000
RRULE:FREQ=YEARLY;INTERVAL=1;BYDAY=-1SU;BYMONTH=10
END:STANDARD
END:VTIMEZONE
BEGIN:VEVENT
DTSTAMP:20260422T011234
DTSTART;TZID=Europe/Berlin:20270218T090000
DTEND;TZID=Europe/Berlin:20270218T153000
UID:1W50623-20270218T090000@VHSLAICHINGEN
SUMMARY:Weiterqualifizierung für Leitungsaufgaben für sozialpädagogische Assistent*innen, Kinderpfleger*innen und Berufsgruppen nach §7 KiTaG 2. Modul  Frühjahr 2027 (1W50623) 
LOCATION:Blaubeuren; Altes Postamt, Seminarraum, Karlstraße 28, 89143 Blaubeuren
END:VEVENT
BEGIN:VEVENT
DTSTAMP:20260422T011234
DTSTART;TZID=Europe/Berlin:20270219T090000
DTEND;TZID=Europe/Berlin:20270219T153000
UID:1W50623-20270219T090000@VHSLAICHINGEN
SUMMARY:Weiterqualifizierung für Leitungsaufgaben für sozialpädagogische Assistent*innen, Kinderpfleger*innen und Berufsgruppen nach §7 KiTaG 2. Modul  Frühjahr 2027 (1W50623) 
LOCATION:Blaubeuren; Altes Postamt, Seminarraum, Karlstraße 28, 89143 Blaubeuren
END:VEVENT
BEGIN:VEVENT
DTSTAMP:20260422T011234
DTSTART;TZID=Europe/Berlin:20270220T090000
DTEND;TZID=Europe/Berlin:20270220T153000
UID:1W50623-20270220T090000@VHSLAICHINGEN
SUMMARY:Weiterqualifizierung für Leitungsaufgaben für sozialpädagogische Assistent*innen, Kinderpfleger*innen und Berufsgruppen nach §7 KiTaG 2. Modul  Frühjahr 2027 (1W50623) 
LOCATION:Blaubeuren; Altes Postamt, Seminarraum, Karlstraße 28, 89143 Blaubeuren
END:VEVENT
BEGIN:VEVENT
DTSTAMP:20260422T011234
DTSTART;TZID=Europe/Berlin:20270304T090000
DTEND;TZID=Europe/Berlin:20270304T153000
UID:1W50623-20270304T090000@VHSLAICHINGEN
SUMMARY:Weiterqualifizierung für Leitungsaufgaben für sozialpädagogische Assistent*innen, Kinderpfleger*innen und Berufsgruppen nach §7 KiTaG 2. Modul  Frühjahr 2027 (1W50623) 
LOCATION:Blaubeuren; Altes Postamt, Seminarraum, Karlstraße 28, 89143 Blaubeuren
END:VEVENT
BEGIN:VEVENT
DTSTAMP:20260422T011234
DTSTART;TZID=Europe/Berlin:20270408T090000
DTEND;TZID=Europe/Berlin:20270408T153000
UID:1W50623-20270408T090000@VHSLAICHINGEN
SUMMARY:Weiterqualifizierung für Leitungsaufgaben für sozialpädagogische Assistent*innen, Kinderpfleger*innen und Berufsgruppen nach §7 KiTaG 2. Modul  Frühjahr 2027 (1W50623) 
LOCATION:Blaubeuren; Altes Postamt, Seminarraum, Karlstraße 28, 89143 Blaubeuren
END:VEVENT
BEGIN:VEVENT
DTSTAMP:20260422T011234
DTSTART;TZID=Europe/Berlin:20270603T090000
DTEND;TZID=Europe/Berlin:20270603T153000
UID:1W50623-20270603T090000@VHSLAICHINGEN
SUMMARY:Weiterqualifizierung für Leitungsaufgaben für sozialpädagogische Assistent*innen, Kinderpfleger*innen und Berufsgruppen nach §7 KiTaG 2. Modul  Frühjahr 2027 (1W50623) 
LOCATION:Blaubeuren; Altes Postamt, Seminarraum, Karlstraße 28, 89143 Blaubeuren
END:VEVENT
END:VCALENDAR