BEGIN:VCALENDAR
VERSION:2.0
PRODID:https://www.kufer.de/kuferweb / DE
METHOD:PUBLISH
CALSCALE:GREGORIAN
X-WR-TIMEZONE:Europe/Berlin
BEGIN:VTIMEZONE
TZID:Europe/Berlin
X-LIC-LOCATION:Europe/Berlin
BEGIN:DAYLIGHT
TZOFFSETFROM:+0100
TZOFFSETTO:+0200
TZNAME:CEST
DTSTART:19700329T020000
RRULE:FREQ=YEARLY;INTERVAL=1;BYDAY=-1SU;BYMONTH=3
END:DAYLIGHT
BEGIN:STANDARD
TZOFFSETFROM:+0200
TZOFFSETTO:+0100
TZNAME:CET
DTSTART:19701025T030000
RRULE:FREQ=YEARLY;INTERVAL=1;BYDAY=-1SU;BYMONTH=10
END:STANDARD
END:VTIMEZONE
BEGIN:VEVENT
DTSTAMP:20260423T181517
DTSTART;TZID=Europe/Berlin:20260310T190000
DTEND;TZID=Europe/Berlin:20260310T203000
UID:1W40802-20260310T190000@VHSLAICHINGEN
SUMMARY:Kompaktkurs Französisch - Mittelstufe (B1/1) für Fortgeschrittene (1W40802) 
LOCATION:Laichingen; Albert-Schweitzer-Gymnasium, Raum 301, Beim Käppele 8, 89150 Laichingen
END:VEVENT
BEGIN:VEVENT
DTSTAMP:20260423T181517
DTSTART;TZID=Europe/Berlin:20260317T190000
DTEND;TZID=Europe/Berlin:20260317T203000
UID:1W40802-20260317T190000@VHSLAICHINGEN
SUMMARY:Kompaktkurs Französisch - Mittelstufe (B1/1) für Fortgeschrittene (1W40802) 
LOCATION:Laichingen; Albert-Schweitzer-Gymnasium, Raum 301, Beim Käppele 8, 89150 Laichingen
END:VEVENT
BEGIN:VEVENT
DTSTAMP:20260423T181517
DTSTART;TZID=Europe/Berlin:20260324T190000
DTEND;TZID=Europe/Berlin:20260324T203000
UID:1W40802-20260324T190000@VHSLAICHINGEN
SUMMARY:Kompaktkurs Französisch - Mittelstufe (B1/1) für Fortgeschrittene (1W40802) 
LOCATION:Laichingen; Albert-Schweitzer-Gymnasium, Raum 301, Beim Käppele 8, 89150 Laichingen
END:VEVENT
BEGIN:VEVENT
DTSTAMP:20260423T181517
DTSTART;TZID=Europe/Berlin:20260414T190000
DTEND;TZID=Europe/Berlin:20260414T203000
UID:1W40802-20260414T190000@VHSLAICHINGEN
SUMMARY:Kompaktkurs Französisch - Mittelstufe (B1/1) für Fortgeschrittene (1W40802) 
LOCATION:Laichingen; Albert-Schweitzer-Gymnasium, Raum 301, Beim Käppele 8, 89150 Laichingen
END:VEVENT
BEGIN:VEVENT
DTSTAMP:20260423T181517
DTSTART;TZID=Europe/Berlin:20260421T190000
DTEND;TZID=Europe/Berlin:20260421T203000
UID:1W40802-20260421T190000@VHSLAICHINGEN
SUMMARY:Kompaktkurs Französisch - Mittelstufe (B1/1) für Fortgeschrittene (1W40802) 
LOCATION:Laichingen; Albert-Schweitzer-Gymnasium, Raum 301, Beim Käppele 8, 89150 Laichingen
END:VEVENT
BEGIN:VEVENT
DTSTAMP:20260423T181517
DTSTART;TZID=Europe/Berlin:20260428T190000
DTEND;TZID=Europe/Berlin:20260428T203000
UID:1W40802-20260428T190000@VHSLAICHINGEN
SUMMARY:Kompaktkurs Französisch - Mittelstufe (B1/1) für Fortgeschrittene (1W40802) 
LOCATION:Laichingen; Albert-Schweitzer-Gymnasium, Raum 301, Beim Käppele 8, 89150 Laichingen
END:VEVENT
BEGIN:VEVENT
DTSTAMP:20260423T181517
DTSTART;TZID=Europe/Berlin:20260505T190000
DTEND;TZID=Europe/Berlin:20260505T203000
UID:1W40802-20260505T190000@VHSLAICHINGEN
SUMMARY:Kompaktkurs Französisch - Mittelstufe (B1/1) für Fortgeschrittene (1W40802) 
LOCATION:Laichingen; Albert-Schweitzer-Gymnasium, Raum 301, Beim Käppele 8, 89150 Laichingen
END:VEVENT
BEGIN:VEVENT
DTSTAMP:20260423T181517
DTSTART;TZID=Europe/Berlin:20260512T190000
DTEND;TZID=Europe/Berlin:20260512T203000
UID:1W40802-20260512T190000@VHSLAICHINGEN
SUMMARY:Kompaktkurs Französisch - Mittelstufe (B1/1) für Fortgeschrittene (1W40802) 
LOCATION:Laichingen; Albert-Schweitzer-Gymnasium, Raum 301, Beim Käppele 8, 89150 Laichingen
END:VEVENT
BEGIN:VEVENT
DTSTAMP:20260423T181517
DTSTART;TZID=Europe/Berlin:20260519T190000
DTEND;TZID=Europe/Berlin:20260519T203000
UID:1W40802-20260519T190000@VHSLAICHINGEN
SUMMARY:Kompaktkurs Französisch - Mittelstufe (B1/1) für Fortgeschrittene (1W40802) 
LOCATION:Laichingen; Albert-Schweitzer-Gymnasium, Raum 301, Beim Käppele 8, 89150 Laichingen
END:VEVENT
BEGIN:VEVENT
DTSTAMP:20260423T181517
DTSTART;TZID=Europe/Berlin:20260609T190000
DTEND;TZID=Europe/Berlin:20260609T203000
UID:1W40802-20260609T190000@VHSLAICHINGEN
SUMMARY:Kompaktkurs Französisch - Mittelstufe (B1/1) für Fortgeschrittene (1W40802) 
LOCATION:Laichingen; Albert-Schweitzer-Gymnasium, Raum 301, Beim Käppele 8, 89150 Laichingen
END:VEVENT
BEGIN:VEVENT
DTSTAMP:20260423T181517
DTSTART;TZID=Europe/Berlin:20260616T190000
DTEND;TZID=Europe/Berlin:20260616T203000
UID:1W40802-20260616T190000@VHSLAICHINGEN
SUMMARY:Kompaktkurs Französisch - Mittelstufe (B1/1) für Fortgeschrittene (1W40802) 
LOCATION:Laichingen; Albert-Schweitzer-Gymnasium, Raum 301, Beim Käppele 8, 89150 Laichingen
END:VEVENT
BEGIN:VEVENT
DTSTAMP:20260423T181517
DTSTART;TZID=Europe/Berlin:20260623T190000
DTEND;TZID=Europe/Berlin:20260623T203000
UID:1W40802-20260623T190000@VHSLAICHINGEN
SUMMARY:Kompaktkurs Französisch - Mittelstufe (B1/1) für Fortgeschrittene (1W40802) 
LOCATION:Laichingen; Albert-Schweitzer-Gymnasium, Raum 301, Beim Käppele 8, 89150 Laichingen
END:VEVENT
BEGIN:VEVENT
DTSTAMP:20260423T181517
DTSTART;TZID=Europe/Berlin:20260630T190000
DTEND;TZID=Europe/Berlin:20260630T203000
UID:1W40802-20260630T190000@VHSLAICHINGEN
SUMMARY:Kompaktkurs Französisch - Mittelstufe (B1/1) für Fortgeschrittene (1W40802) 
LOCATION:Laichingen; Albert-Schweitzer-Gymnasium, Raum 301, Beim Käppele 8, 89150 Laichingen
END:VEVENT
BEGIN:VEVENT
DTSTAMP:20260423T181517
DTSTART;TZID=Europe/Berlin:20260707T190000
DTEND;TZID=Europe/Berlin:20260707T203000
UID:1W40802-20260707T190000@VHSLAICHINGEN
SUMMARY:Kompaktkurs Französisch - Mittelstufe (B1/1) für Fortgeschrittene (1W40802) 
LOCATION:Laichingen; Albert-Schweitzer-Gymnasium, Raum 301, Beim Käppele 8, 89150 Laichingen
END:VEVENT
BEGIN:VEVENT
DTSTAMP:20260423T181517
DTSTART;TZID=Europe/Berlin:20260714T190000
DTEND;TZID=Europe/Berlin:20260714T203000
UID:1W40802-20260714T190000@VHSLAICHINGEN
SUMMARY:Kompaktkurs Französisch - Mittelstufe (B1/1) für Fortgeschrittene (1W40802) 
LOCATION:Laichingen; Albert-Schweitzer-Gymnasium, Raum 301, Beim Käppele 8, 89150 Laichingen
END:VEVENT
END:VCALENDAR