BEGIN:VCALENDAR
VERSION:2.0
PRODID:https://www.kufer.de/kuferweb / DE
METHOD:PUBLISH
CALSCALE:GREGORIAN
X-WR-TIMEZONE:Europe/Berlin
BEGIN:VTIMEZONE
TZID:Europe/Berlin
X-LIC-LOCATION:Europe/Berlin
BEGIN:DAYLIGHT
TZOFFSETFROM:+0100
TZOFFSETTO:+0200
TZNAME:CEST
DTSTART:19700329T020000
RRULE:FREQ=YEARLY;INTERVAL=1;BYDAY=-1SU;BYMONTH=3
END:DAYLIGHT
BEGIN:STANDARD
TZOFFSETFROM:+0200
TZOFFSETTO:+0100
TZNAME:CET
DTSTART:19701025T030000
RRULE:FREQ=YEARLY;INTERVAL=1;BYDAY=-1SU;BYMONTH=10
END:STANDARD
END:VTIMEZONE
BEGIN:VEVENT
DTSTAMP:20260421T204325
DTSTART;TZID=Europe/Berlin:20260227T160000
DTEND;TZID=Europe/Berlin:20260227T173000
UID:1W40801-20260227T160000@VHSLAICHINGEN
SUMMARY:Französisch - Grundstufe (A2/1) für Anfänger*innen mit Vorkenntnissen (1W40801) 
LOCATION:Laichingen; vhs-Studio, Raum 2, Karlstraße 30, 89150 Laichingen
END:VEVENT
BEGIN:VEVENT
DTSTAMP:20260421T204325
DTSTART;TZID=Europe/Berlin:20260306T160000
DTEND;TZID=Europe/Berlin:20260306T173000
UID:1W40801-20260306T160000@VHSLAICHINGEN
SUMMARY:Französisch - Grundstufe (A2/1) für Anfänger*innen mit Vorkenntnissen (1W40801) 
LOCATION:Laichingen; vhs-Studio, Raum 2, Karlstraße 30, 89150 Laichingen
END:VEVENT
BEGIN:VEVENT
DTSTAMP:20260421T204325
DTSTART;TZID=Europe/Berlin:20260313T160000
DTEND;TZID=Europe/Berlin:20260313T173000
UID:1W40801-20260313T160000@VHSLAICHINGEN
SUMMARY:Französisch - Grundstufe (A2/1) für Anfänger*innen mit Vorkenntnissen (1W40801) 
LOCATION:Laichingen; vhs-Studio, Raum 2, Karlstraße 30, 89150 Laichingen
END:VEVENT
BEGIN:VEVENT
DTSTAMP:20260421T204325
DTSTART;TZID=Europe/Berlin:20260320T160000
DTEND;TZID=Europe/Berlin:20260320T173000
UID:1W40801-20260320T160000@VHSLAICHINGEN
SUMMARY:Französisch - Grundstufe (A2/1) für Anfänger*innen mit Vorkenntnissen (1W40801) 
LOCATION:Laichingen; vhs-Studio, Raum 2, Karlstraße 30, 89150 Laichingen
END:VEVENT
BEGIN:VEVENT
DTSTAMP:20260421T204325
DTSTART;TZID=Europe/Berlin:20260327T160000
DTEND;TZID=Europe/Berlin:20260327T173000
UID:1W40801-20260327T160000@VHSLAICHINGEN
SUMMARY:Französisch - Grundstufe (A2/1) für Anfänger*innen mit Vorkenntnissen (1W40801) 
LOCATION:Laichingen; vhs-Studio, Raum 2, Karlstraße 30, 89150 Laichingen
END:VEVENT
BEGIN:VEVENT
DTSTAMP:20260421T204325
DTSTART;TZID=Europe/Berlin:20260417T160000
DTEND;TZID=Europe/Berlin:20260417T173000
UID:1W40801-20260417T160000@VHSLAICHINGEN
SUMMARY:Französisch - Grundstufe (A2/1) für Anfänger*innen mit Vorkenntnissen (1W40801) 
LOCATION:Laichingen; vhs-Studio, Raum 2, Karlstraße 30, 89150 Laichingen
END:VEVENT
BEGIN:VEVENT
DTSTAMP:20260421T204325
DTSTART;TZID=Europe/Berlin:20260424T160000
DTEND;TZID=Europe/Berlin:20260424T173000
UID:1W40801-20260424T160000@VHSLAICHINGEN
SUMMARY:Französisch - Grundstufe (A2/1) für Anfänger*innen mit Vorkenntnissen (1W40801) 
LOCATION:Laichingen; vhs-Studio, Raum 2, Karlstraße 30, 89150 Laichingen
END:VEVENT
BEGIN:VEVENT
DTSTAMP:20260421T204325
DTSTART;TZID=Europe/Berlin:20260508T160000
DTEND;TZID=Europe/Berlin:20260508T173000
UID:1W40801-20260508T160000@VHSLAICHINGEN
SUMMARY:Französisch - Grundstufe (A2/1) für Anfänger*innen mit Vorkenntnissen (1W40801) 
LOCATION:Laichingen; vhs-Studio, Raum 2, Karlstraße 30, 89150 Laichingen
END:VEVENT
BEGIN:VEVENT
DTSTAMP:20260421T204325
DTSTART;TZID=Europe/Berlin:20260522T160000
DTEND;TZID=Europe/Berlin:20260522T173000
UID:1W40801-20260522T160000@VHSLAICHINGEN
SUMMARY:Französisch - Grundstufe (A2/1) für Anfänger*innen mit Vorkenntnissen (1W40801) 
LOCATION:Laichingen; vhs-Studio, Raum 2, Karlstraße 30, 89150 Laichingen
END:VEVENT
BEGIN:VEVENT
DTSTAMP:20260421T204325
DTSTART;TZID=Europe/Berlin:20260612T160000
DTEND;TZID=Europe/Berlin:20260612T173000
UID:1W40801-20260612T160000@VHSLAICHINGEN
SUMMARY:Französisch - Grundstufe (A2/1) für Anfänger*innen mit Vorkenntnissen (1W40801) 
LOCATION:Laichingen; vhs-Studio, Raum 2, Karlstraße 30, 89150 Laichingen
END:VEVENT
BEGIN:VEVENT
DTSTAMP:20260421T204325
DTSTART;TZID=Europe/Berlin:20260619T160000
DTEND;TZID=Europe/Berlin:20260619T173000
UID:1W40801-20260619T160000@VHSLAICHINGEN
SUMMARY:Französisch - Grundstufe (A2/1) für Anfänger*innen mit Vorkenntnissen (1W40801) 
LOCATION:Laichingen; vhs-Studio, Raum 2, Karlstraße 30, 89150 Laichingen
END:VEVENT
BEGIN:VEVENT
DTSTAMP:20260421T204325
DTSTART;TZID=Europe/Berlin:20260626T160000
DTEND;TZID=Europe/Berlin:20260626T173000
UID:1W40801-20260626T160000@VHSLAICHINGEN
SUMMARY:Französisch - Grundstufe (A2/1) für Anfänger*innen mit Vorkenntnissen (1W40801) 
LOCATION:Laichingen; vhs-Studio, Raum 2, Karlstraße 30, 89150 Laichingen
END:VEVENT
BEGIN:VEVENT
DTSTAMP:20260421T204325
DTSTART;TZID=Europe/Berlin:20260703T160000
DTEND;TZID=Europe/Berlin:20260703T173000
UID:1W40801-20260703T160000@VHSLAICHINGEN
SUMMARY:Französisch - Grundstufe (A2/1) für Anfänger*innen mit Vorkenntnissen (1W40801) 
LOCATION:Laichingen; vhs-Studio, Raum 2, Karlstraße 30, 89150 Laichingen
END:VEVENT
BEGIN:VEVENT
DTSTAMP:20260421T204325
DTSTART;TZID=Europe/Berlin:20260710T160000
DTEND;TZID=Europe/Berlin:20260710T173000
UID:1W40801-20260710T160000@VHSLAICHINGEN
SUMMARY:Französisch - Grundstufe (A2/1) für Anfänger*innen mit Vorkenntnissen (1W40801) 
LOCATION:Laichingen; vhs-Studio, Raum 2, Karlstraße 30, 89150 Laichingen
END:VEVENT
BEGIN:VEVENT
DTSTAMP:20260421T204325
DTSTART;TZID=Europe/Berlin:20260717T160000
DTEND;TZID=Europe/Berlin:20260717T173000
UID:1W40801-20260717T160000@VHSLAICHINGEN
SUMMARY:Französisch - Grundstufe (A2/1) für Anfänger*innen mit Vorkenntnissen (1W40801) 
LOCATION:Laichingen; vhs-Studio, Raum 2, Karlstraße 30, 89150 Laichingen
END:VEVENT
END:VCALENDAR