BEGIN:VCALENDAR
VERSION:2.0
PRODID:https://www.kufer.de/kuferweb / DE
METHOD:PUBLISH
CALSCALE:GREGORIAN
X-WR-TIMEZONE:Europe/Berlin
BEGIN:VTIMEZONE
TZID:Europe/Berlin
X-LIC-LOCATION:Europe/Berlin
BEGIN:DAYLIGHT
TZOFFSETFROM:+0100
TZOFFSETTO:+0200
TZNAME:CEST
DTSTART:19700329T020000
RRULE:FREQ=YEARLY;INTERVAL=1;BYDAY=-1SU;BYMONTH=3
END:DAYLIGHT
BEGIN:STANDARD
TZOFFSETFROM:+0200
TZOFFSETTO:+0100
TZNAME:CET
DTSTART:19701025T030000
RRULE:FREQ=YEARLY;INTERVAL=1;BYDAY=-1SU;BYMONTH=10
END:STANDARD
END:VTIMEZONE
BEGIN:VEVENT
DTSTAMP:20260421T104805
DTSTART;TZID=Europe/Berlin:20260225T200000
DTEND;TZID=Europe/Berlin:20260225T210000
UID:1W30332-20260225T200000@VHSLAICHINGEN
SUMMARY:Tanz dich fit! (1W30332) 
LOCATION:Nellingen; Grundschule, Mehrzweckraum, J.A.v. Widmannstetter Weg 1, 89191 Nellingen
END:VEVENT
BEGIN:VEVENT
DTSTAMP:20260421T104805
DTSTART;TZID=Europe/Berlin:20260304T200000
DTEND;TZID=Europe/Berlin:20260304T210000
UID:1W30332-20260304T200000@VHSLAICHINGEN
SUMMARY:Tanz dich fit! (1W30332) 
LOCATION:Nellingen; Grundschule, Mehrzweckraum, J.A.v. Widmannstetter Weg 1, 89191 Nellingen
END:VEVENT
BEGIN:VEVENT
DTSTAMP:20260421T104805
DTSTART;TZID=Europe/Berlin:20260318T200000
DTEND;TZID=Europe/Berlin:20260318T210000
UID:1W30332-20260318T200000@VHSLAICHINGEN
SUMMARY:Tanz dich fit! (1W30332) 
LOCATION:Nellingen; Grundschule, Mehrzweckraum, J.A.v. Widmannstetter Weg 1, 89191 Nellingen
END:VEVENT
BEGIN:VEVENT
DTSTAMP:20260421T104805
DTSTART;TZID=Europe/Berlin:20260325T200000
DTEND;TZID=Europe/Berlin:20260325T210000
UID:1W30332-20260325T200000@VHSLAICHINGEN
SUMMARY:Tanz dich fit! (1W30332) 
LOCATION:Nellingen; Grundschule, Mehrzweckraum, J.A.v. Widmannstetter Weg 1, 89191 Nellingen
END:VEVENT
BEGIN:VEVENT
DTSTAMP:20260421T104805
DTSTART;TZID=Europe/Berlin:20260415T200000
DTEND;TZID=Europe/Berlin:20260415T210000
UID:1W30332-20260415T200000@VHSLAICHINGEN
SUMMARY:Tanz dich fit! (1W30332) 
LOCATION:Nellingen; Grundschule, Mehrzweckraum, J.A.v. Widmannstetter Weg 1, 89191 Nellingen
END:VEVENT
BEGIN:VEVENT
DTSTAMP:20260421T104805
DTSTART;TZID=Europe/Berlin:20260422T200000
DTEND;TZID=Europe/Berlin:20260422T210000
UID:1W30332-20260422T200000@VHSLAICHINGEN
SUMMARY:Tanz dich fit! (1W30332) 
LOCATION:Nellingen; Grundschule, Mehrzweckraum, J.A.v. Widmannstetter Weg 1, 89191 Nellingen
END:VEVENT
BEGIN:VEVENT
DTSTAMP:20260421T104805
DTSTART;TZID=Europe/Berlin:20260429T200000
DTEND;TZID=Europe/Berlin:20260429T210000
UID:1W30332-20260429T200000@VHSLAICHINGEN
SUMMARY:Tanz dich fit! (1W30332) 
LOCATION:Nellingen; Grundschule, Mehrzweckraum, J.A.v. Widmannstetter Weg 1, 89191 Nellingen
END:VEVENT
BEGIN:VEVENT
DTSTAMP:20260421T104805
DTSTART;TZID=Europe/Berlin:20260506T200000
DTEND;TZID=Europe/Berlin:20260506T210000
UID:1W30332-20260506T200000@VHSLAICHINGEN
SUMMARY:Tanz dich fit! (1W30332) 
LOCATION:Nellingen; Grundschule, Mehrzweckraum, J.A.v. Widmannstetter Weg 1, 89191 Nellingen
END:VEVENT
BEGIN:VEVENT
DTSTAMP:20260421T104805
DTSTART;TZID=Europe/Berlin:20260513T200000
DTEND;TZID=Europe/Berlin:20260513T210000
UID:1W30332-20260513T200000@VHSLAICHINGEN
SUMMARY:Tanz dich fit! (1W30332) 
LOCATION:Nellingen; Grundschule, Mehrzweckraum, J.A.v. Widmannstetter Weg 1, 89191 Nellingen
END:VEVENT
BEGIN:VEVENT
DTSTAMP:20260421T104805
DTSTART;TZID=Europe/Berlin:20260520T200000
DTEND;TZID=Europe/Berlin:20260520T210000
UID:1W30332-20260520T200000@VHSLAICHINGEN
SUMMARY:Tanz dich fit! (1W30332) 
LOCATION:Nellingen; Grundschule, Mehrzweckraum, J.A.v. Widmannstetter Weg 1, 89191 Nellingen
END:VEVENT
BEGIN:VEVENT
DTSTAMP:20260421T104805
DTSTART;TZID=Europe/Berlin:20260610T200000
DTEND;TZID=Europe/Berlin:20260610T210000
UID:1W30332-20260610T200000@VHSLAICHINGEN
SUMMARY:Tanz dich fit! (1W30332) 
LOCATION:Nellingen; Grundschule, Mehrzweckraum, J.A.v. Widmannstetter Weg 1, 89191 Nellingen
END:VEVENT
BEGIN:VEVENT
DTSTAMP:20260421T104805
DTSTART;TZID=Europe/Berlin:20260617T200000
DTEND;TZID=Europe/Berlin:20260617T210000
UID:1W30332-20260617T200000@VHSLAICHINGEN
SUMMARY:Tanz dich fit! (1W30332) 
LOCATION:Nellingen; Grundschule, Mehrzweckraum, J.A.v. Widmannstetter Weg 1, 89191 Nellingen
END:VEVENT
BEGIN:VEVENT
DTSTAMP:20260421T104805
DTSTART;TZID=Europe/Berlin:20260624T200000
DTEND;TZID=Europe/Berlin:20260624T210000
UID:1W30332-20260624T200000@VHSLAICHINGEN
SUMMARY:Tanz dich fit! (1W30332) 
LOCATION:Nellingen; Grundschule, Mehrzweckraum, J.A.v. Widmannstetter Weg 1, 89191 Nellingen
END:VEVENT
BEGIN:VEVENT
DTSTAMP:20260421T104805
DTSTART;TZID=Europe/Berlin:20260701T200000
DTEND;TZID=Europe/Berlin:20260701T210000
UID:1W30332-20260701T200000@VHSLAICHINGEN
SUMMARY:Tanz dich fit! (1W30332) 
LOCATION:Nellingen; Grundschule, Mehrzweckraum, J.A.v. Widmannstetter Weg 1, 89191 Nellingen
END:VEVENT
BEGIN:VEVENT
DTSTAMP:20260421T104805
DTSTART;TZID=Europe/Berlin:20260708T200000
DTEND;TZID=Europe/Berlin:20260708T210000
UID:1W30332-20260708T200000@VHSLAICHINGEN
DESCRIPTION:für 11.03. (KL hat Elternabend). TN durch KL informiert.
SUMMARY:Tanz dich fit! (1W30332) 
LOCATION:Nellingen; Grundschule, Mehrzweckraum, J.A.v. Widmannstetter Weg 1, 89191 Nellingen
END:VEVENT
END:VCALENDAR