BEGIN:VCALENDAR
VERSION:2.0
PRODID:https://www.kufer.de/kuferweb / DE
METHOD:PUBLISH
CALSCALE:GREGORIAN
X-WR-TIMEZONE:Europe/Berlin
BEGIN:VTIMEZONE
TZID:Europe/Berlin
X-LIC-LOCATION:Europe/Berlin
BEGIN:DAYLIGHT
TZOFFSETFROM:+0100
TZOFFSETTO:+0200
TZNAME:CEST
DTSTART:19700329T020000
RRULE:FREQ=YEARLY;INTERVAL=1;BYDAY=-1SU;BYMONTH=3
END:DAYLIGHT
BEGIN:STANDARD
TZOFFSETFROM:+0200
TZOFFSETTO:+0100
TZNAME:CET
DTSTART:19701025T030000
RRULE:FREQ=YEARLY;INTERVAL=1;BYDAY=-1SU;BYMONTH=10
END:STANDARD
END:VTIMEZONE
BEGIN:VEVENT
DTSTAMP:20260419T150957
DTSTART;TZID=Europe/Berlin:20260612T143000
DTEND;TZID=Europe/Berlin:20260612T151500
UID:1W30323-20260612T143000@VHSLAICHINGEN
SUMMARY:Schwimmen für Erwachsene Anfänger*innen (1W30323) 
LOCATION:Laichingen; Hallenbad, Beim Käppele 4, 89150 Laichingen
END:VEVENT
BEGIN:VEVENT
DTSTAMP:20260419T150957
DTSTART;TZID=Europe/Berlin:20260619T143000
DTEND;TZID=Europe/Berlin:20260619T151500
UID:1W30323-20260619T143000@VHSLAICHINGEN
SUMMARY:Schwimmen für Erwachsene Anfänger*innen (1W30323) 
LOCATION:Laichingen; Hallenbad, Beim Käppele 4, 89150 Laichingen
END:VEVENT
BEGIN:VEVENT
DTSTAMP:20260419T150957
DTSTART;TZID=Europe/Berlin:20260626T143000
DTEND;TZID=Europe/Berlin:20260626T151500
UID:1W30323-20260626T143000@VHSLAICHINGEN
SUMMARY:Schwimmen für Erwachsene Anfänger*innen (1W30323) 
LOCATION:Laichingen; Hallenbad, Beim Käppele 4, 89150 Laichingen
END:VEVENT
BEGIN:VEVENT
DTSTAMP:20260419T150957
DTSTART;TZID=Europe/Berlin:20260703T143000
DTEND;TZID=Europe/Berlin:20260703T151500
UID:1W30323-20260703T143000@VHSLAICHINGEN
SUMMARY:Schwimmen für Erwachsene Anfänger*innen (1W30323) 
LOCATION:Laichingen; Hallenbad, Beim Käppele 4, 89150 Laichingen
END:VEVENT
BEGIN:VEVENT
DTSTAMP:20260419T150957
DTSTART;TZID=Europe/Berlin:20260717T143000
DTEND;TZID=Europe/Berlin:20260717T151500
UID:1W30323-20260717T143000@VHSLAICHINGEN
SUMMARY:Schwimmen für Erwachsene Anfänger*innen (1W30323) 
LOCATION:Laichingen; Hallenbad, Beim Käppele 4, 89150 Laichingen
END:VEVENT
BEGIN:VEVENT
DTSTAMP:20260419T150957
DTSTART;TZID=Europe/Berlin:20260724T143000
DTEND;TZID=Europe/Berlin:20260724T151500
UID:1W30323-20260724T143000@VHSLAICHINGEN
SUMMARY:Schwimmen für Erwachsene Anfänger*innen (1W30323) 
LOCATION:Laichingen; Hallenbad, Beim Käppele 4, 89150 Laichingen
END:VEVENT
END:VCALENDAR