BEGIN:VCALENDAR
VERSION:2.0
PRODID:https://www.kufer.de/kuferweb / DE
METHOD:PUBLISH
CALSCALE:GREGORIAN
X-WR-TIMEZONE:Europe/Berlin
BEGIN:VTIMEZONE
TZID:Europe/Berlin
X-LIC-LOCATION:Europe/Berlin
BEGIN:DAYLIGHT
TZOFFSETFROM:+0100
TZOFFSETTO:+0200
TZNAME:CEST
DTSTART:19700329T020000
RRULE:FREQ=YEARLY;INTERVAL=1;BYDAY=-1SU;BYMONTH=3
END:DAYLIGHT
BEGIN:STANDARD
TZOFFSETFROM:+0200
TZOFFSETTO:+0100
TZNAME:CET
DTSTART:19701025T030000
RRULE:FREQ=YEARLY;INTERVAL=1;BYDAY=-1SU;BYMONTH=10
END:STANDARD
END:VTIMEZONE
BEGIN:VEVENT
DTSTAMP:20260420T020520
DTSTART;TZID=Europe/Berlin:20260221T090000
DTEND;TZID=Europe/Berlin:20260221T094500
UID:1W30317-20260221T090000@VHSLAICHINGEN
SUMMARY:Aquafitness (1W30317) 
LOCATION:Laichingen; Hallenbad, Beim Käppele 4, 89150 Laichingen
END:VEVENT
BEGIN:VEVENT
DTSTAMP:20260420T020520
DTSTART;TZID=Europe/Berlin:20260228T090000
DTEND;TZID=Europe/Berlin:20260228T094500
UID:1W30317-20260228T090000@VHSLAICHINGEN
SUMMARY:Aquafitness (1W30317) 
LOCATION:Laichingen; Hallenbad, Beim Käppele 4, 89150 Laichingen
END:VEVENT
BEGIN:VEVENT
DTSTAMP:20260420T020520
DTSTART;TZID=Europe/Berlin:20260307T090000
DTEND;TZID=Europe/Berlin:20260307T094500
UID:1W30317-20260307T090000@VHSLAICHINGEN
SUMMARY:Aquafitness (1W30317) 
LOCATION:Laichingen; Hallenbad, Beim Käppele 4, 89150 Laichingen
END:VEVENT
BEGIN:VEVENT
DTSTAMP:20260420T020520
DTSTART;TZID=Europe/Berlin:20260314T090000
DTEND;TZID=Europe/Berlin:20260314T094500
UID:1W30317-20260314T090000@VHSLAICHINGEN
SUMMARY:Aquafitness (1W30317) 
LOCATION:Laichingen; Hallenbad, Beim Käppele 4, 89150 Laichingen
END:VEVENT
BEGIN:VEVENT
DTSTAMP:20260420T020520
DTSTART;TZID=Europe/Berlin:20260328T090000
DTEND;TZID=Europe/Berlin:20260328T094500
UID:1W30317-20260328T090000@VHSLAICHINGEN
SUMMARY:Aquafitness (1W30317) 
LOCATION:Laichingen; Hallenbad, Beim Käppele 4, 89150 Laichingen
END:VEVENT
BEGIN:VEVENT
DTSTAMP:20260420T020520
DTSTART;TZID=Europe/Berlin:20260411T090000
DTEND;TZID=Europe/Berlin:20260411T094500
UID:1W30317-20260411T090000@VHSLAICHINGEN
SUMMARY:Aquafitness (1W30317) 
LOCATION:Laichingen; Hallenbad, Beim Käppele 4, 89150 Laichingen
END:VEVENT
BEGIN:VEVENT
DTSTAMP:20260420T020520
DTSTART;TZID=Europe/Berlin:20260418T090000
DTEND;TZID=Europe/Berlin:20260418T094500
UID:1W30317-20260418T090000@VHSLAICHINGEN
SUMMARY:Aquafitness (1W30317) 
LOCATION:Laichingen; Hallenbad, Beim Käppele 4, 89150 Laichingen
END:VEVENT
BEGIN:VEVENT
DTSTAMP:20260420T020520
DTSTART;TZID=Europe/Berlin:20260502T090000
DTEND;TZID=Europe/Berlin:20260502T094500
UID:1W30317-20260502T090000@VHSLAICHINGEN
SUMMARY:Aquafitness (1W30317) 
LOCATION:Laichingen; Hallenbad, Beim Käppele 4, 89150 Laichingen
END:VEVENT
BEGIN:VEVENT
DTSTAMP:20260420T020520
DTSTART;TZID=Europe/Berlin:20260509T090000
DTEND;TZID=Europe/Berlin:20260509T094500
UID:1W30317-20260509T090000@VHSLAICHINGEN
SUMMARY:Aquafitness (1W30317) 
LOCATION:Laichingen; Hallenbad, Beim Käppele 4, 89150 Laichingen
END:VEVENT
BEGIN:VEVENT
DTSTAMP:20260420T020520
DTSTART;TZID=Europe/Berlin:20260516T090000
DTEND;TZID=Europe/Berlin:20260516T094500
UID:1W30317-20260516T090000@VHSLAICHINGEN
SUMMARY:Aquafitness (1W30317) 
LOCATION:Laichingen; Hallenbad, Beim Käppele 4, 89150 Laichingen
END:VEVENT
BEGIN:VEVENT
DTSTAMP:20260420T020520
DTSTART;TZID=Europe/Berlin:20260523T090000
DTEND;TZID=Europe/Berlin:20260523T094500
UID:1W30317-20260523T090000@VHSLAICHINGEN
SUMMARY:Aquafitness (1W30317) 
LOCATION:Laichingen; Hallenbad, Beim Käppele 4, 89150 Laichingen
END:VEVENT
BEGIN:VEVENT
DTSTAMP:20260420T020520
DTSTART;TZID=Europe/Berlin:20260613T090000
DTEND;TZID=Europe/Berlin:20260613T094500
UID:1W30317-20260613T090000@VHSLAICHINGEN
SUMMARY:Aquafitness (1W30317) 
LOCATION:Laichingen; Hallenbad, Beim Käppele 4, 89150 Laichingen
END:VEVENT
BEGIN:VEVENT
DTSTAMP:20260420T020520
DTSTART;TZID=Europe/Berlin:20260620T090000
DTEND;TZID=Europe/Berlin:20260620T094500
UID:1W30317-20260620T090000@VHSLAICHINGEN
SUMMARY:Aquafitness (1W30317) 
LOCATION:Laichingen; Hallenbad, Beim Käppele 4, 89150 Laichingen
END:VEVENT
BEGIN:VEVENT
DTSTAMP:20260420T020520
DTSTART;TZID=Europe/Berlin:20260718T090000
DTEND;TZID=Europe/Berlin:20260718T094500
UID:1W30317-20260718T090000@VHSLAICHINGEN
DESCRIPTION:für 21.03.
SUMMARY:Aquafitness (1W30317) 
LOCATION:Laichingen; Hallenbad, Beim Käppele 4, 89150 Laichingen
END:VEVENT
END:VCALENDAR