BEGIN:VCALENDAR
VERSION:2.0
PRODID:https://www.kufer.de/kuferweb / DE
METHOD:PUBLISH
CALSCALE:GREGORIAN
X-WR-TIMEZONE:Europe/Berlin
BEGIN:VTIMEZONE
TZID:Europe/Berlin
X-LIC-LOCATION:Europe/Berlin
BEGIN:DAYLIGHT
TZOFFSETFROM:+0100
TZOFFSETTO:+0200
TZNAME:CEST
DTSTART:19700329T020000
RRULE:FREQ=YEARLY;INTERVAL=1;BYDAY=-1SU;BYMONTH=3
END:DAYLIGHT
BEGIN:STANDARD
TZOFFSETFROM:+0200
TZOFFSETTO:+0100
TZNAME:CET
DTSTART:19701025T030000
RRULE:FREQ=YEARLY;INTERVAL=1;BYDAY=-1SU;BYMONTH=10
END:STANDARD
END:VTIMEZONE
BEGIN:VEVENT
DTSTAMP:20260421T101020
DTSTART;TZID=Europe/Berlin:20260224T191000
DTEND;TZID=Europe/Berlin:20260224T195500
UID:1W30311-20260224T191000@VHSLAICHINGEN
SUMMARY:Aquafitness (1W30311) 
LOCATION:Laichingen; Hallenbad, Beim Käppele 4, 89150 Laichingen
END:VEVENT
BEGIN:VEVENT
DTSTAMP:20260421T101020
DTSTART;TZID=Europe/Berlin:20260303T191000
DTEND;TZID=Europe/Berlin:20260303T195500
UID:1W30311-20260303T191000@VHSLAICHINGEN
SUMMARY:Aquafitness (1W30311) 
LOCATION:Laichingen; Hallenbad, Beim Käppele 4, 89150 Laichingen
END:VEVENT
BEGIN:VEVENT
DTSTAMP:20260421T101020
DTSTART;TZID=Europe/Berlin:20260310T191000
DTEND;TZID=Europe/Berlin:20260310T195500
UID:1W30311-20260310T191000@VHSLAICHINGEN
DESCRIPTION:10.03.26 (*KT): KL krank, Übernahme des Kurses von Caro Heck
SUMMARY:Aquafitness (1W30311) 
LOCATION:Laichingen; Hallenbad, Beim Käppele 4, 89150 Laichingen
END:VEVENT
BEGIN:VEVENT
DTSTAMP:20260421T101020
DTSTART;TZID=Europe/Berlin:20260317T191000
DTEND;TZID=Europe/Berlin:20260317T195500
UID:1W30311-20260317T191000@VHSLAICHINGEN
SUMMARY:Aquafitness (1W30311) 
LOCATION:Laichingen; Hallenbad, Beim Käppele 4, 89150 Laichingen
END:VEVENT
BEGIN:VEVENT
DTSTAMP:20260421T101020
DTSTART;TZID=Europe/Berlin:20260324T191000
DTEND;TZID=Europe/Berlin:20260324T195500
UID:1W30311-20260324T191000@VHSLAICHINGEN
SUMMARY:Aquafitness (1W30311) 
LOCATION:Laichingen; Hallenbad, Beim Käppele 4, 89150 Laichingen
END:VEVENT
BEGIN:VEVENT
DTSTAMP:20260421T101020
DTSTART;TZID=Europe/Berlin:20260407T191000
DTEND;TZID=Europe/Berlin:20260407T195500
UID:1W30311-20260407T191000@VHSLAICHINGEN
DESCRIPTION:für 30.06.
SUMMARY:Aquafitness (1W30311) 
LOCATION:Laichingen; Hallenbad, Beim Käppele 4, 89150 Laichingen
END:VEVENT
BEGIN:VEVENT
DTSTAMP:20260421T101020
DTSTART;TZID=Europe/Berlin:20260421T191000
DTEND;TZID=Europe/Berlin:20260421T195500
UID:1W30311-20260421T191000@VHSLAICHINGEN
SUMMARY:Aquafitness (1W30311) 
LOCATION:Laichingen; Hallenbad, Beim Käppele 4, 89150 Laichingen
END:VEVENT
BEGIN:VEVENT
DTSTAMP:20260421T101020
DTSTART;TZID=Europe/Berlin:20260428T191000
DTEND;TZID=Europe/Berlin:20260428T195500
UID:1W30311-20260428T191000@VHSLAICHINGEN
SUMMARY:Aquafitness (1W30311) 
LOCATION:Laichingen; Hallenbad, Beim Käppele 4, 89150 Laichingen
END:VEVENT
BEGIN:VEVENT
DTSTAMP:20260421T101020
DTSTART;TZID=Europe/Berlin:20260505T191000
DTEND;TZID=Europe/Berlin:20260505T195500
UID:1W30311-20260505T191000@VHSLAICHINGEN
SUMMARY:Aquafitness (1W30311) 
LOCATION:Laichingen; Hallenbad, Beim Käppele 4, 89150 Laichingen
END:VEVENT
BEGIN:VEVENT
DTSTAMP:20260421T101020
DTSTART;TZID=Europe/Berlin:20260512T191000
DTEND;TZID=Europe/Berlin:20260512T195500
UID:1W30311-20260512T191000@VHSLAICHINGEN
SUMMARY:Aquafitness (1W30311) 
LOCATION:Laichingen; Hallenbad, Beim Käppele 4, 89150 Laichingen
END:VEVENT
BEGIN:VEVENT
DTSTAMP:20260421T101020
DTSTART;TZID=Europe/Berlin:20260519T191000
DTEND;TZID=Europe/Berlin:20260519T195500
UID:1W30311-20260519T191000@VHSLAICHINGEN
SUMMARY:Aquafitness (1W30311) 
LOCATION:Laichingen; Hallenbad, Beim Käppele 4, 89150 Laichingen
END:VEVENT
BEGIN:VEVENT
DTSTAMP:20260421T101020
DTSTART;TZID=Europe/Berlin:20260609T191000
DTEND;TZID=Europe/Berlin:20260609T195500
UID:1W30311-20260609T191000@VHSLAICHINGEN
SUMMARY:Aquafitness (1W30311) 
LOCATION:Laichingen; Hallenbad, Beim Käppele 4, 89150 Laichingen
END:VEVENT
BEGIN:VEVENT
DTSTAMP:20260421T101020
DTSTART;TZID=Europe/Berlin:20260616T191000
DTEND;TZID=Europe/Berlin:20260616T195500
UID:1W30311-20260616T191000@VHSLAICHINGEN
SUMMARY:Aquafitness (1W30311) 
LOCATION:Laichingen; Hallenbad, Beim Käppele 4, 89150 Laichingen
END:VEVENT
BEGIN:VEVENT
DTSTAMP:20260421T101020
DTSTART;TZID=Europe/Berlin:20260623T191000
DTEND;TZID=Europe/Berlin:20260623T195500
UID:1W30311-20260623T191000@VHSLAICHINGEN
SUMMARY:Aquafitness (1W30311) 
LOCATION:Laichingen; Hallenbad, Beim Käppele 4, 89150 Laichingen
END:VEVENT
BEGIN:VEVENT
DTSTAMP:20260421T101020
DTSTART;TZID=Europe/Berlin:20260630T191000
DTEND;TZID=Europe/Berlin:20260630T195500
UID:1W30311-20260630T191000@VHSLAICHINGEN
DESCRIPTION:für 14.04. Reparatur Hallenbad Laichingen
SUMMARY:Aquafitness (1W30311) 
LOCATION:Laichingen; Hallenbad, Beim Käppele 4, 89150 Laichingen
END:VEVENT
END:VCALENDAR