BEGIN:VCALENDAR
VERSION:2.0
PRODID:https://www.kufer.de/kuferweb / DE
METHOD:PUBLISH
CALSCALE:GREGORIAN
X-WR-TIMEZONE:Europe/Berlin
BEGIN:VTIMEZONE
TZID:Europe/Berlin
X-LIC-LOCATION:Europe/Berlin
BEGIN:DAYLIGHT
TZOFFSETFROM:+0100
TZOFFSETTO:+0200
TZNAME:CEST
DTSTART:19700329T020000
RRULE:FREQ=YEARLY;INTERVAL=1;BYDAY=-1SU;BYMONTH=3
END:DAYLIGHT
BEGIN:STANDARD
TZOFFSETFROM:+0200
TZOFFSETTO:+0100
TZNAME:CET
DTSTART:19701025T030000
RRULE:FREQ=YEARLY;INTERVAL=1;BYDAY=-1SU;BYMONTH=10
END:STANDARD
END:VTIMEZONE
BEGIN:VEVENT
DTSTAMP:20260421T204253
DTSTART;TZID=Europe/Berlin:20260225T114500
DTEND;TZID=Europe/Berlin:20260225T123000
UID:1W30304-20260225T114500@VHSLAICHINGEN
SUMMARY:Wassergymnastik - mit Musik (1W30304) 
LOCATION:Berghülen; Gasthof Ochsen, Blaubeurer Straße 14, Blaubeurer Straße 14, 89180 Berghülen
END:VEVENT
BEGIN:VEVENT
DTSTAMP:20260421T204253
DTSTART;TZID=Europe/Berlin:20260304T114500
DTEND;TZID=Europe/Berlin:20260304T123000
UID:1W30304-20260304T114500@VHSLAICHINGEN
SUMMARY:Wassergymnastik - mit Musik (1W30304) 
LOCATION:Berghülen; Gasthof Ochsen, Blaubeurer Straße 14, Blaubeurer Straße 14, 89180 Berghülen
END:VEVENT
BEGIN:VEVENT
DTSTAMP:20260421T204253
DTSTART;TZID=Europe/Berlin:20260311T114500
DTEND;TZID=Europe/Berlin:20260311T123000
UID:1W30304-20260311T114500@VHSLAICHINGEN
SUMMARY:Wassergymnastik - mit Musik (1W30304) 
LOCATION:Berghülen; Gasthof Ochsen, Blaubeurer Straße 14, Blaubeurer Straße 14, 89180 Berghülen
END:VEVENT
BEGIN:VEVENT
DTSTAMP:20260421T204253
DTSTART;TZID=Europe/Berlin:20260318T114500
DTEND;TZID=Europe/Berlin:20260318T123000
UID:1W30304-20260318T114500@VHSLAICHINGEN
SUMMARY:Wassergymnastik - mit Musik (1W30304) 
LOCATION:Berghülen; Gasthof Ochsen, Blaubeurer Straße 14, Blaubeurer Straße 14, 89180 Berghülen
END:VEVENT
BEGIN:VEVENT
DTSTAMP:20260421T204253
DTSTART;TZID=Europe/Berlin:20260325T114500
DTEND;TZID=Europe/Berlin:20260325T123000
UID:1W30304-20260325T114500@VHSLAICHINGEN
SUMMARY:Wassergymnastik - mit Musik (1W30304) 
LOCATION:Berghülen; Gasthof Ochsen, Blaubeurer Straße 14, Blaubeurer Straße 14, 89180 Berghülen
END:VEVENT
BEGIN:VEVENT
DTSTAMP:20260421T204253
DTSTART;TZID=Europe/Berlin:20260415T114500
DTEND;TZID=Europe/Berlin:20260415T123000
UID:1W30304-20260415T114500@VHSLAICHINGEN
SUMMARY:Wassergymnastik - mit Musik (1W30304) 
LOCATION:Berghülen; Gasthof Ochsen, Blaubeurer Straße 14, Blaubeurer Straße 14, 89180 Berghülen
END:VEVENT
BEGIN:VEVENT
DTSTAMP:20260421T204253
DTSTART;TZID=Europe/Berlin:20260422T114500
DTEND;TZID=Europe/Berlin:20260422T123000
UID:1W30304-20260422T114500@VHSLAICHINGEN
SUMMARY:Wassergymnastik - mit Musik (1W30304) 
LOCATION:Berghülen; Gasthof Ochsen, Blaubeurer Straße 14, Blaubeurer Straße 14, 89180 Berghülen
END:VEVENT
BEGIN:VEVENT
DTSTAMP:20260421T204253
DTSTART;TZID=Europe/Berlin:20260429T114500
DTEND;TZID=Europe/Berlin:20260429T123000
UID:1W30304-20260429T114500@VHSLAICHINGEN
SUMMARY:Wassergymnastik - mit Musik (1W30304) 
LOCATION:Berghülen; Gasthof Ochsen, Blaubeurer Straße 14, Blaubeurer Straße 14, 89180 Berghülen
END:VEVENT
BEGIN:VEVENT
DTSTAMP:20260421T204253
DTSTART;TZID=Europe/Berlin:20260506T114500
DTEND;TZID=Europe/Berlin:20260506T123000
UID:1W30304-20260506T114500@VHSLAICHINGEN
SUMMARY:Wassergymnastik - mit Musik (1W30304) 
LOCATION:Berghülen; Gasthof Ochsen, Blaubeurer Straße 14, Blaubeurer Straße 14, 89180 Berghülen
END:VEVENT
BEGIN:VEVENT
DTSTAMP:20260421T204253
DTSTART;TZID=Europe/Berlin:20260513T114500
DTEND;TZID=Europe/Berlin:20260513T123000
UID:1W30304-20260513T114500@VHSLAICHINGEN
SUMMARY:Wassergymnastik - mit Musik (1W30304) 
LOCATION:Berghülen; Gasthof Ochsen, Blaubeurer Straße 14, Blaubeurer Straße 14, 89180 Berghülen
END:VEVENT
BEGIN:VEVENT
DTSTAMP:20260421T204253
DTSTART;TZID=Europe/Berlin:20260520T114500
DTEND;TZID=Europe/Berlin:20260520T123000
UID:1W30304-20260520T114500@VHSLAICHINGEN
SUMMARY:Wassergymnastik - mit Musik (1W30304) 
LOCATION:Berghülen; Gasthof Ochsen, Blaubeurer Straße 14, Blaubeurer Straße 14, 89180 Berghülen
END:VEVENT
BEGIN:VEVENT
DTSTAMP:20260421T204253
DTSTART;TZID=Europe/Berlin:20260610T114500
DTEND;TZID=Europe/Berlin:20260610T123000
UID:1W30304-20260610T114500@VHSLAICHINGEN
SUMMARY:Wassergymnastik - mit Musik (1W30304) 
LOCATION:Berghülen; Gasthof Ochsen, Blaubeurer Straße 14, Blaubeurer Straße 14, 89180 Berghülen
END:VEVENT
BEGIN:VEVENT
DTSTAMP:20260421T204253
DTSTART;TZID=Europe/Berlin:20260617T114500
DTEND;TZID=Europe/Berlin:20260617T123000
UID:1W30304-20260617T114500@VHSLAICHINGEN
SUMMARY:Wassergymnastik - mit Musik (1W30304) 
LOCATION:Berghülen; Gasthof Ochsen, Blaubeurer Straße 14, Blaubeurer Straße 14, 89180 Berghülen
END:VEVENT
BEGIN:VEVENT
DTSTAMP:20260421T204253
DTSTART;TZID=Europe/Berlin:20260624T114500
DTEND;TZID=Europe/Berlin:20260624T123000
UID:1W30304-20260624T114500@VHSLAICHINGEN
SUMMARY:Wassergymnastik - mit Musik (1W30304) 
LOCATION:Berghülen; Gasthof Ochsen, Blaubeurer Straße 14, Blaubeurer Straße 14, 89180 Berghülen
END:VEVENT
BEGIN:VEVENT
DTSTAMP:20260421T204253
DTSTART;TZID=Europe/Berlin:20260701T114500
DTEND;TZID=Europe/Berlin:20260701T123000
UID:1W30304-20260701T114500@VHSLAICHINGEN
SUMMARY:Wassergymnastik - mit Musik (1W30304) 
LOCATION:Berghülen; Gasthof Ochsen, Blaubeurer Straße 14, Blaubeurer Straße 14, 89180 Berghülen
END:VEVENT
END:VCALENDAR