BEGIN:VCALENDAR
VERSION:2.0
PRODID:https://www.kufer.de/kuferweb / DE
METHOD:PUBLISH
CALSCALE:GREGORIAN
X-WR-TIMEZONE:Europe/Berlin
BEGIN:VTIMEZONE
TZID:Europe/Berlin
X-LIC-LOCATION:Europe/Berlin
BEGIN:DAYLIGHT
TZOFFSETFROM:+0100
TZOFFSETTO:+0200
TZNAME:CEST
DTSTART:19700329T020000
RRULE:FREQ=YEARLY;INTERVAL=1;BYDAY=-1SU;BYMONTH=3
END:DAYLIGHT
BEGIN:STANDARD
TZOFFSETFROM:+0200
TZOFFSETTO:+0100
TZNAME:CET
DTSTART:19701025T030000
RRULE:FREQ=YEARLY;INTERVAL=1;BYDAY=-1SU;BYMONTH=10
END:STANDARD
END:VTIMEZONE
BEGIN:VEVENT
DTSTAMP:20260421T175413
DTSTART;TZID=Europe/Berlin:20260304T163000
DTEND;TZID=Europe/Berlin:20260304T173000
UID:1W30241-20260304T163000@VHSLAICHINGEN
SUMMARY:Rücken, Kraft & Koordination - Männer-Fitness für den Alltag Ganzkörpertraining für Körper, Geist und Gelenke (1W30241) 
LOCATION:Laichingen; vhs-Gymnastikraum, Feldstetter Straße 12, 89150 Laichingen
END:VEVENT
BEGIN:VEVENT
DTSTAMP:20260421T175413
DTSTART;TZID=Europe/Berlin:20260311T163000
DTEND;TZID=Europe/Berlin:20260311T173000
UID:1W30241-20260311T163000@VHSLAICHINGEN
SUMMARY:Rücken, Kraft & Koordination - Männer-Fitness für den Alltag Ganzkörpertraining für Körper, Geist und Gelenke (1W30241) 
LOCATION:Laichingen; vhs-Gymnastikraum, Feldstetter Straße 12, 89150 Laichingen
END:VEVENT
BEGIN:VEVENT
DTSTAMP:20260421T175413
DTSTART;TZID=Europe/Berlin:20260318T163000
DTEND;TZID=Europe/Berlin:20260318T173000
UID:1W30241-20260318T163000@VHSLAICHINGEN
SUMMARY:Rücken, Kraft & Koordination - Männer-Fitness für den Alltag Ganzkörpertraining für Körper, Geist und Gelenke (1W30241) 
LOCATION:Laichingen; vhs-Gymnastikraum, Feldstetter Straße 12, 89150 Laichingen
END:VEVENT
BEGIN:VEVENT
DTSTAMP:20260421T175413
DTSTART;TZID=Europe/Berlin:20260325T163000
DTEND;TZID=Europe/Berlin:20260325T173000
UID:1W30241-20260325T163000@VHSLAICHINGEN
SUMMARY:Rücken, Kraft & Koordination - Männer-Fitness für den Alltag Ganzkörpertraining für Körper, Geist und Gelenke (1W30241) 
LOCATION:Laichingen; vhs-Gymnastikraum, Feldstetter Straße 12, 89150 Laichingen
END:VEVENT
BEGIN:VEVENT
DTSTAMP:20260421T175413
DTSTART;TZID=Europe/Berlin:20260415T163000
DTEND;TZID=Europe/Berlin:20260415T173000
UID:1W30241-20260415T163000@VHSLAICHINGEN
SUMMARY:Rücken, Kraft & Koordination - Männer-Fitness für den Alltag Ganzkörpertraining für Körper, Geist und Gelenke (1W30241) 
LOCATION:Laichingen; vhs-Gymnastikraum, Feldstetter Straße 12, 89150 Laichingen
END:VEVENT
BEGIN:VEVENT
DTSTAMP:20260421T175413
DTSTART;TZID=Europe/Berlin:20260422T163000
DTEND;TZID=Europe/Berlin:20260422T173000
UID:1W30241-20260422T163000@VHSLAICHINGEN
SUMMARY:Rücken, Kraft & Koordination - Männer-Fitness für den Alltag Ganzkörpertraining für Körper, Geist und Gelenke (1W30241) 
LOCATION:Laichingen; vhs-Gymnastikraum, Feldstetter Straße 12, 89150 Laichingen
END:VEVENT
BEGIN:VEVENT
DTSTAMP:20260421T175413
DTSTART;TZID=Europe/Berlin:20260429T163000
DTEND;TZID=Europe/Berlin:20260429T173000
UID:1W30241-20260429T163000@VHSLAICHINGEN
SUMMARY:Rücken, Kraft & Koordination - Männer-Fitness für den Alltag Ganzkörpertraining für Körper, Geist und Gelenke (1W30241) 
LOCATION:Laichingen; vhs-Gymnastikraum, Feldstetter Straße 12, 89150 Laichingen
END:VEVENT
BEGIN:VEVENT
DTSTAMP:20260421T175413
DTSTART;TZID=Europe/Berlin:20260506T163000
DTEND;TZID=Europe/Berlin:20260506T173000
UID:1W30241-20260506T163000@VHSLAICHINGEN
SUMMARY:Rücken, Kraft & Koordination - Männer-Fitness für den Alltag Ganzkörpertraining für Körper, Geist und Gelenke (1W30241) 
LOCATION:Laichingen; vhs-Gymnastikraum, Feldstetter Straße 12, 89150 Laichingen
END:VEVENT
BEGIN:VEVENT
DTSTAMP:20260421T175413
DTSTART;TZID=Europe/Berlin:20260513T163000
DTEND;TZID=Europe/Berlin:20260513T173000
UID:1W30241-20260513T163000@VHSLAICHINGEN
SUMMARY:Rücken, Kraft & Koordination - Männer-Fitness für den Alltag Ganzkörpertraining für Körper, Geist und Gelenke (1W30241) 
LOCATION:Laichingen; vhs-Gymnastikraum, Feldstetter Straße 12, 89150 Laichingen
END:VEVENT
BEGIN:VEVENT
DTSTAMP:20260421T175413
DTSTART;TZID=Europe/Berlin:20260520T163000
DTEND;TZID=Europe/Berlin:20260520T173000
UID:1W30241-20260520T163000@VHSLAICHINGEN
SUMMARY:Rücken, Kraft & Koordination - Männer-Fitness für den Alltag Ganzkörpertraining für Körper, Geist und Gelenke (1W30241) 
LOCATION:Laichingen; vhs-Gymnastikraum, Feldstetter Straße 12, 89150 Laichingen
END:VEVENT
BEGIN:VEVENT
DTSTAMP:20260421T175413
DTSTART;TZID=Europe/Berlin:20260610T163000
DTEND;TZID=Europe/Berlin:20260610T173000
UID:1W30241-20260610T163000@VHSLAICHINGEN
SUMMARY:Rücken, Kraft & Koordination - Männer-Fitness für den Alltag Ganzkörpertraining für Körper, Geist und Gelenke (1W30241) 
LOCATION:Laichingen; vhs-Gymnastikraum, Feldstetter Straße 12, 89150 Laichingen
END:VEVENT
BEGIN:VEVENT
DTSTAMP:20260421T175413
DTSTART;TZID=Europe/Berlin:20260617T163000
DTEND;TZID=Europe/Berlin:20260617T173000
UID:1W30241-20260617T163000@VHSLAICHINGEN
DESCRIPTION:25.02.26 (*SK): für 25.02. (bei KL Kind erkrankt)
SUMMARY:Rücken, Kraft & Koordination - Männer-Fitness für den Alltag Ganzkörpertraining für Körper, Geist und Gelenke (1W30241) 
LOCATION:Laichingen; vhs-Gymnastikraum, Feldstetter Straße 12, 89150 Laichingen
END:VEVENT
END:VCALENDAR