BEGIN:VCALENDAR
VERSION:2.0
PRODID:https://www.kufer.de/kuferweb / DE
METHOD:PUBLISH
CALSCALE:GREGORIAN
X-WR-TIMEZONE:Europe/Berlin
BEGIN:VTIMEZONE
TZID:Europe/Berlin
X-LIC-LOCATION:Europe/Berlin
BEGIN:DAYLIGHT
TZOFFSETFROM:+0100
TZOFFSETTO:+0200
TZNAME:CEST
DTSTART:19700329T020000
RRULE:FREQ=YEARLY;INTERVAL=1;BYDAY=-1SU;BYMONTH=3
END:DAYLIGHT
BEGIN:STANDARD
TZOFFSETFROM:+0200
TZOFFSETTO:+0100
TZNAME:CET
DTSTART:19701025T030000
RRULE:FREQ=YEARLY;INTERVAL=1;BYDAY=-1SU;BYMONTH=10
END:STANDARD
END:VTIMEZONE
BEGIN:VEVENT
DTSTAMP:20260421T101053
DTSTART;TZID=Europe/Berlin:20260226T174500
DTEND;TZID=Europe/Berlin:20260226T184500
UID:1W30224-20260226T174500@VHSLAICHINGEN
SUMMARY:Bodystyling - Gymnastik für den ganzen Körper für junge Frauen (1W30224) 
LOCATION:Laichingen; vhs-Gymnastikraum, Feldstetter Straße 12, 89150 Laichingen
END:VEVENT
BEGIN:VEVENT
DTSTAMP:20260421T101053
DTSTART;TZID=Europe/Berlin:20260305T174500
DTEND;TZID=Europe/Berlin:20260305T184500
UID:1W30224-20260305T174500@VHSLAICHINGEN
SUMMARY:Bodystyling - Gymnastik für den ganzen Körper für junge Frauen (1W30224) 
LOCATION:Laichingen; vhs-Gymnastikraum, Feldstetter Straße 12, 89150 Laichingen
END:VEVENT
BEGIN:VEVENT
DTSTAMP:20260421T101053
DTSTART;TZID=Europe/Berlin:20260312T174500
DTEND;TZID=Europe/Berlin:20260312T184500
UID:1W30224-20260312T174500@VHSLAICHINGEN
SUMMARY:Bodystyling - Gymnastik für den ganzen Körper für junge Frauen (1W30224) 
LOCATION:Laichingen; vhs-Gymnastikraum, Feldstetter Straße 12, 89150 Laichingen
END:VEVENT
BEGIN:VEVENT
DTSTAMP:20260421T101053
DTSTART;TZID=Europe/Berlin:20260319T174500
DTEND;TZID=Europe/Berlin:20260319T184500
UID:1W30224-20260319T174500@VHSLAICHINGEN
SUMMARY:Bodystyling - Gymnastik für den ganzen Körper für junge Frauen (1W30224) 
LOCATION:Laichingen; vhs-Gymnastikraum, Feldstetter Straße 12, 89150 Laichingen
END:VEVENT
BEGIN:VEVENT
DTSTAMP:20260421T101053
DTSTART;TZID=Europe/Berlin:20260326T174500
DTEND;TZID=Europe/Berlin:20260326T184500
UID:1W30224-20260326T174500@VHSLAICHINGEN
SUMMARY:Bodystyling - Gymnastik für den ganzen Körper für junge Frauen (1W30224) 
LOCATION:Laichingen; vhs-Gymnastikraum, Feldstetter Straße 12, 89150 Laichingen
END:VEVENT
BEGIN:VEVENT
DTSTAMP:20260421T101053
DTSTART;TZID=Europe/Berlin:20260416T174500
DTEND;TZID=Europe/Berlin:20260416T184500
UID:1W30224-20260416T174500@VHSLAICHINGEN
SUMMARY:Bodystyling - Gymnastik für den ganzen Körper für junge Frauen (1W30224) 
LOCATION:Laichingen; vhs-Gymnastikraum, Feldstetter Straße 12, 89150 Laichingen
END:VEVENT
BEGIN:VEVENT
DTSTAMP:20260421T101053
DTSTART;TZID=Europe/Berlin:20260423T174500
DTEND;TZID=Europe/Berlin:20260423T184500
UID:1W30224-20260423T174500@VHSLAICHINGEN
SUMMARY:Bodystyling - Gymnastik für den ganzen Körper für junge Frauen (1W30224) 
LOCATION:Laichingen; vhs-Gymnastikraum, Feldstetter Straße 12, 89150 Laichingen
END:VEVENT
BEGIN:VEVENT
DTSTAMP:20260421T101053
DTSTART;TZID=Europe/Berlin:20260430T174500
DTEND;TZID=Europe/Berlin:20260430T184500
UID:1W30224-20260430T174500@VHSLAICHINGEN
SUMMARY:Bodystyling - Gymnastik für den ganzen Körper für junge Frauen (1W30224) 
LOCATION:Laichingen; vhs-Gymnastikraum, Feldstetter Straße 12, 89150 Laichingen
END:VEVENT
BEGIN:VEVENT
DTSTAMP:20260421T101053
DTSTART;TZID=Europe/Berlin:20260507T174500
DTEND;TZID=Europe/Berlin:20260507T184500
UID:1W30224-20260507T174500@VHSLAICHINGEN
SUMMARY:Bodystyling - Gymnastik für den ganzen Körper für junge Frauen (1W30224) 
LOCATION:Laichingen; vhs-Gymnastikraum, Feldstetter Straße 12, 89150 Laichingen
END:VEVENT
BEGIN:VEVENT
DTSTAMP:20260421T101053
DTSTART;TZID=Europe/Berlin:20260521T174500
DTEND;TZID=Europe/Berlin:20260521T184500
UID:1W30224-20260521T174500@VHSLAICHINGEN
SUMMARY:Bodystyling - Gymnastik für den ganzen Körper für junge Frauen (1W30224) 
LOCATION:Laichingen; vhs-Gymnastikraum, Feldstetter Straße 12, 89150 Laichingen
END:VEVENT
BEGIN:VEVENT
DTSTAMP:20260421T101053
DTSTART;TZID=Europe/Berlin:20260611T174500
DTEND;TZID=Europe/Berlin:20260611T184500
UID:1W30224-20260611T174500@VHSLAICHINGEN
SUMMARY:Bodystyling - Gymnastik für den ganzen Körper für junge Frauen (1W30224) 
LOCATION:Laichingen; vhs-Gymnastikraum, Feldstetter Straße 12, 89150 Laichingen
END:VEVENT
BEGIN:VEVENT
DTSTAMP:20260421T101053
DTSTART;TZID=Europe/Berlin:20260618T174500
DTEND;TZID=Europe/Berlin:20260618T184500
UID:1W30224-20260618T174500@VHSLAICHINGEN
SUMMARY:Bodystyling - Gymnastik für den ganzen Körper für junge Frauen (1W30224) 
LOCATION:Laichingen; vhs-Gymnastikraum, Feldstetter Straße 12, 89150 Laichingen
END:VEVENT
BEGIN:VEVENT
DTSTAMP:20260421T101053
DTSTART;TZID=Europe/Berlin:20260625T174500
DTEND;TZID=Europe/Berlin:20260625T184500
UID:1W30224-20260625T174500@VHSLAICHINGEN
SUMMARY:Bodystyling - Gymnastik für den ganzen Körper für junge Frauen (1W30224) 
LOCATION:Laichingen; vhs-Gymnastikraum, Feldstetter Straße 12, 89150 Laichingen
END:VEVENT
BEGIN:VEVENT
DTSTAMP:20260421T101053
DTSTART;TZID=Europe/Berlin:20260702T174500
DTEND;TZID=Europe/Berlin:20260702T184500
UID:1W30224-20260702T174500@VHSLAICHINGEN
SUMMARY:Bodystyling - Gymnastik für den ganzen Körper für junge Frauen (1W30224) 
LOCATION:Laichingen; vhs-Gymnastikraum, Feldstetter Straße 12, 89150 Laichingen
END:VEVENT
BEGIN:VEVENT
DTSTAMP:20260421T101053
DTSTART;TZID=Europe/Berlin:20260709T174500
DTEND;TZID=Europe/Berlin:20260709T184500
UID:1W30224-20260709T174500@VHSLAICHINGEN
SUMMARY:Bodystyling - Gymnastik für den ganzen Körper für junge Frauen (1W30224) 
LOCATION:Laichingen; vhs-Gymnastikraum, Feldstetter Straße 12, 89150 Laichingen
END:VEVENT
END:VCALENDAR