BEGIN:VCALENDAR
VERSION:2.0
PRODID:https://www.kufer.de/kuferweb / DE
METHOD:PUBLISH
CALSCALE:GREGORIAN
X-WR-TIMEZONE:Europe/Berlin
BEGIN:VTIMEZONE
TZID:Europe/Berlin
X-LIC-LOCATION:Europe/Berlin
BEGIN:DAYLIGHT
TZOFFSETFROM:+0100
TZOFFSETTO:+0200
TZNAME:CEST
DTSTART:19700329T020000
RRULE:FREQ=YEARLY;INTERVAL=1;BYDAY=-1SU;BYMONTH=3
END:DAYLIGHT
BEGIN:STANDARD
TZOFFSETFROM:+0200
TZOFFSETTO:+0100
TZNAME:CET
DTSTART:19701025T030000
RRULE:FREQ=YEARLY;INTERVAL=1;BYDAY=-1SU;BYMONTH=10
END:STANDARD
END:VTIMEZONE
BEGIN:VEVENT
DTSTAMP:20260421T104805
DTSTART;TZID=Europe/Berlin:20260224T171500
DTEND;TZID=Europe/Berlin:20260224T181500
UID:1W30221-20260224T171500@VHSLAICHINGEN
SUMMARY:"After work" - Das effektive Ganzkörpertraining (1W30221) 
LOCATION:Laichingen; vhs-Gymnastikraum, Feldstetter Straße 12, 89150 Laichingen
END:VEVENT
BEGIN:VEVENT
DTSTAMP:20260421T104805
DTSTART;TZID=Europe/Berlin:20260303T171500
DTEND;TZID=Europe/Berlin:20260303T181500
UID:1W30221-20260303T171500@VHSLAICHINGEN
SUMMARY:"After work" - Das effektive Ganzkörpertraining (1W30221) 
LOCATION:Laichingen; vhs-Gymnastikraum, Feldstetter Straße 12, 89150 Laichingen
END:VEVENT
BEGIN:VEVENT
DTSTAMP:20260421T104805
DTSTART;TZID=Europe/Berlin:20260310T171500
DTEND;TZID=Europe/Berlin:20260310T181500
UID:1W30221-20260310T171500@VHSLAICHINGEN
SUMMARY:"After work" - Das effektive Ganzkörpertraining (1W30221) 
LOCATION:Laichingen; vhs-Gymnastikraum, Feldstetter Straße 12, 89150 Laichingen
END:VEVENT
BEGIN:VEVENT
DTSTAMP:20260421T104805
DTSTART;TZID=Europe/Berlin:20260317T171500
DTEND;TZID=Europe/Berlin:20260317T181500
UID:1W30221-20260317T171500@VHSLAICHINGEN
SUMMARY:"After work" - Das effektive Ganzkörpertraining (1W30221) 
LOCATION:Laichingen; vhs-Gymnastikraum, Feldstetter Straße 12, 89150 Laichingen
END:VEVENT
BEGIN:VEVENT
DTSTAMP:20260421T104805
DTSTART;TZID=Europe/Berlin:20260324T171500
DTEND;TZID=Europe/Berlin:20260324T181500
UID:1W30221-20260324T171500@VHSLAICHINGEN
SUMMARY:"After work" - Das effektive Ganzkörpertraining (1W30221) 
LOCATION:Laichingen; vhs-Gymnastikraum, Feldstetter Straße 12, 89150 Laichingen
END:VEVENT
BEGIN:VEVENT
DTSTAMP:20260421T104805
DTSTART;TZID=Europe/Berlin:20260331T171500
DTEND;TZID=Europe/Berlin:20260331T181500
UID:1W30221-20260331T171500@VHSLAICHINGEN
DESCRIPTION:für 28.04.
SUMMARY:"After work" - Das effektive Ganzkörpertraining (1W30221) 
LOCATION:Laichingen; vhs-Gymnastikraum, Feldstetter Straße 12, 89150 Laichingen
END:VEVENT
BEGIN:VEVENT
DTSTAMP:20260421T104805
DTSTART;TZID=Europe/Berlin:20260414T171500
DTEND;TZID=Europe/Berlin:20260414T181500
UID:1W30221-20260414T171500@VHSLAICHINGEN
SUMMARY:"After work" - Das effektive Ganzkörpertraining (1W30221) 
LOCATION:Laichingen; vhs-Gymnastikraum, Feldstetter Straße 12, 89150 Laichingen
END:VEVENT
BEGIN:VEVENT
DTSTAMP:20260421T104805
DTSTART;TZID=Europe/Berlin:20260421T171500
DTEND;TZID=Europe/Berlin:20260421T181500
UID:1W30221-20260421T171500@VHSLAICHINGEN
SUMMARY:"After work" - Das effektive Ganzkörpertraining (1W30221) 
LOCATION:Laichingen; vhs-Gymnastikraum, Feldstetter Straße 12, 89150 Laichingen
END:VEVENT
BEGIN:VEVENT
DTSTAMP:20260421T104805
DTSTART;TZID=Europe/Berlin:20260505T171500
DTEND;TZID=Europe/Berlin:20260505T181500
UID:1W30221-20260505T171500@VHSLAICHINGEN
SUMMARY:"After work" - Das effektive Ganzkörpertraining (1W30221) 
LOCATION:Laichingen; vhs-Gymnastikraum, Feldstetter Straße 12, 89150 Laichingen
END:VEVENT
BEGIN:VEVENT
DTSTAMP:20260421T104805
DTSTART;TZID=Europe/Berlin:20260512T171500
DTEND;TZID=Europe/Berlin:20260512T181500
UID:1W30221-20260512T171500@VHSLAICHINGEN
SUMMARY:"After work" - Das effektive Ganzkörpertraining (1W30221) 
LOCATION:Laichingen; vhs-Gymnastikraum, Feldstetter Straße 12, 89150 Laichingen
END:VEVENT
BEGIN:VEVENT
DTSTAMP:20260421T104805
DTSTART;TZID=Europe/Berlin:20260519T171500
DTEND;TZID=Europe/Berlin:20260519T181500
UID:1W30221-20260519T171500@VHSLAICHINGEN
SUMMARY:"After work" - Das effektive Ganzkörpertraining (1W30221) 
LOCATION:Laichingen; vhs-Gymnastikraum, Feldstetter Straße 12, 89150 Laichingen
END:VEVENT
BEGIN:VEVENT
DTSTAMP:20260421T104805
DTSTART;TZID=Europe/Berlin:20260609T171500
DTEND;TZID=Europe/Berlin:20260609T181500
UID:1W30221-20260609T171500@VHSLAICHINGEN
SUMMARY:"After work" - Das effektive Ganzkörpertraining (1W30221) 
LOCATION:Laichingen; vhs-Gymnastikraum, Feldstetter Straße 12, 89150 Laichingen
END:VEVENT
BEGIN:VEVENT
DTSTAMP:20260421T104805
DTSTART;TZID=Europe/Berlin:20260616T171500
DTEND;TZID=Europe/Berlin:20260616T181500
UID:1W30221-20260616T171500@VHSLAICHINGEN
SUMMARY:"After work" - Das effektive Ganzkörpertraining (1W30221) 
LOCATION:Laichingen; vhs-Gymnastikraum, Feldstetter Straße 12, 89150 Laichingen
END:VEVENT
BEGIN:VEVENT
DTSTAMP:20260421T104805
DTSTART;TZID=Europe/Berlin:20260623T171500
DTEND;TZID=Europe/Berlin:20260623T181500
UID:1W30221-20260623T171500@VHSLAICHINGEN
SUMMARY:"After work" - Das effektive Ganzkörpertraining (1W30221) 
LOCATION:Laichingen; vhs-Gymnastikraum, Feldstetter Straße 12, 89150 Laichingen
END:VEVENT
BEGIN:VEVENT
DTSTAMP:20260421T104805
DTSTART;TZID=Europe/Berlin:20260630T171500
DTEND;TZID=Europe/Berlin:20260630T181500
UID:1W30221-20260630T171500@VHSLAICHINGEN
SUMMARY:"After work" - Das effektive Ganzkörpertraining (1W30221) 
LOCATION:Laichingen; vhs-Gymnastikraum, Feldstetter Straße 12, 89150 Laichingen
END:VEVENT
END:VCALENDAR