BEGIN:VCALENDAR
VERSION:2.0
PRODID:https://www.kufer.de/kuferweb / DE
METHOD:PUBLISH
CALSCALE:GREGORIAN
X-WR-TIMEZONE:Europe/Berlin
BEGIN:VTIMEZONE
TZID:Europe/Berlin
X-LIC-LOCATION:Europe/Berlin
BEGIN:DAYLIGHT
TZOFFSETFROM:+0100
TZOFFSETTO:+0200
TZNAME:CEST
DTSTART:19700329T020000
RRULE:FREQ=YEARLY;INTERVAL=1;BYDAY=-1SU;BYMONTH=3
END:DAYLIGHT
BEGIN:STANDARD
TZOFFSETFROM:+0200
TZOFFSETTO:+0100
TZNAME:CET
DTSTART:19701025T030000
RRULE:FREQ=YEARLY;INTERVAL=1;BYDAY=-1SU;BYMONTH=10
END:STANDARD
END:VTIMEZONE
BEGIN:VEVENT
DTSTAMP:20260423T204718
DTSTART;TZID=Europe/Berlin:20260225T092000
DTEND;TZID=Europe/Berlin:20260225T102000
UID:1W30218-20260225T092000@VHSLAICHINGEN
SUMMARY:Gymnastik "50+" (1W30218) 
LOCATION:Laichingen; vhs-Gymnastikraum, Feldstetter Straße 12, 89150 Laichingen
END:VEVENT
BEGIN:VEVENT
DTSTAMP:20260423T204718
DTSTART;TZID=Europe/Berlin:20260304T092000
DTEND;TZID=Europe/Berlin:20260304T102000
UID:1W30218-20260304T092000@VHSLAICHINGEN
SUMMARY:Gymnastik "50+" (1W30218) 
LOCATION:Laichingen; vhs-Gymnastikraum, Feldstetter Straße 12, 89150 Laichingen
END:VEVENT
BEGIN:VEVENT
DTSTAMP:20260423T204718
DTSTART;TZID=Europe/Berlin:20260311T092000
DTEND;TZID=Europe/Berlin:20260311T102000
UID:1W30218-20260311T092000@VHSLAICHINGEN
SUMMARY:Gymnastik "50+" (1W30218) 
LOCATION:Laichingen; vhs-Gymnastikraum, Feldstetter Straße 12, 89150 Laichingen
END:VEVENT
BEGIN:VEVENT
DTSTAMP:20260423T204718
DTSTART;TZID=Europe/Berlin:20260318T092000
DTEND;TZID=Europe/Berlin:20260318T102000
UID:1W30218-20260318T092000@VHSLAICHINGEN
SUMMARY:Gymnastik "50+" (1W30218) 
LOCATION:Laichingen; vhs-Gymnastikraum, Feldstetter Straße 12, 89150 Laichingen
END:VEVENT
BEGIN:VEVENT
DTSTAMP:20260423T204718
DTSTART;TZID=Europe/Berlin:20260325T092000
DTEND;TZID=Europe/Berlin:20260325T102000
UID:1W30218-20260325T092000@VHSLAICHINGEN
SUMMARY:Gymnastik "50+" (1W30218) 
LOCATION:Laichingen; vhs-Gymnastikraum, Feldstetter Straße 12, 89150 Laichingen
END:VEVENT
BEGIN:VEVENT
DTSTAMP:20260423T204718
DTSTART;TZID=Europe/Berlin:20260415T092000
DTEND;TZID=Europe/Berlin:20260415T102000
UID:1W30218-20260415T092000@VHSLAICHINGEN
SUMMARY:Gymnastik "50+" (1W30218) 
LOCATION:Laichingen; vhs-Gymnastikraum, Feldstetter Straße 12, 89150 Laichingen
END:VEVENT
BEGIN:VEVENT
DTSTAMP:20260423T204718
DTSTART;TZID=Europe/Berlin:20260422T092000
DTEND;TZID=Europe/Berlin:20260422T102000
UID:1W30218-20260422T092000@VHSLAICHINGEN
SUMMARY:Gymnastik "50+" (1W30218) 
LOCATION:Laichingen; vhs-Gymnastikraum, Feldstetter Straße 12, 89150 Laichingen
END:VEVENT
BEGIN:VEVENT
DTSTAMP:20260423T204718
DTSTART;TZID=Europe/Berlin:20260429T092000
DTEND;TZID=Europe/Berlin:20260429T102000
UID:1W30218-20260429T092000@VHSLAICHINGEN
SUMMARY:Gymnastik "50+" (1W30218) 
LOCATION:Laichingen; vhs-Gymnastikraum, Feldstetter Straße 12, 89150 Laichingen
END:VEVENT
BEGIN:VEVENT
DTSTAMP:20260423T204718
DTSTART;TZID=Europe/Berlin:20260506T092000
DTEND;TZID=Europe/Berlin:20260506T102000
UID:1W30218-20260506T092000@VHSLAICHINGEN
SUMMARY:Gymnastik "50+" (1W30218) 
LOCATION:Laichingen; vhs-Gymnastikraum, Feldstetter Straße 12, 89150 Laichingen
END:VEVENT
BEGIN:VEVENT
DTSTAMP:20260423T204718
DTSTART;TZID=Europe/Berlin:20260513T092000
DTEND;TZID=Europe/Berlin:20260513T102000
UID:1W30218-20260513T092000@VHSLAICHINGEN
SUMMARY:Gymnastik "50+" (1W30218) 
LOCATION:Laichingen; vhs-Gymnastikraum, Feldstetter Straße 12, 89150 Laichingen
END:VEVENT
BEGIN:VEVENT
DTSTAMP:20260423T204718
DTSTART;TZID=Europe/Berlin:20260520T092000
DTEND;TZID=Europe/Berlin:20260520T102000
UID:1W30218-20260520T092000@VHSLAICHINGEN
SUMMARY:Gymnastik "50+" (1W30218) 
LOCATION:Laichingen; vhs-Gymnastikraum, Feldstetter Straße 12, 89150 Laichingen
END:VEVENT
BEGIN:VEVENT
DTSTAMP:20260423T204718
DTSTART;TZID=Europe/Berlin:20260610T092000
DTEND;TZID=Europe/Berlin:20260610T102000
UID:1W30218-20260610T092000@VHSLAICHINGEN
SUMMARY:Gymnastik "50+" (1W30218) 
LOCATION:Laichingen; vhs-Gymnastikraum, Feldstetter Straße 12, 89150 Laichingen
END:VEVENT
BEGIN:VEVENT
DTSTAMP:20260423T204718
DTSTART;TZID=Europe/Berlin:20260617T092000
DTEND;TZID=Europe/Berlin:20260617T102000
UID:1W30218-20260617T092000@VHSLAICHINGEN
SUMMARY:Gymnastik "50+" (1W30218) 
LOCATION:Laichingen; vhs-Gymnastikraum, Feldstetter Straße 12, 89150 Laichingen
END:VEVENT
BEGIN:VEVENT
DTSTAMP:20260423T204718
DTSTART;TZID=Europe/Berlin:20260624T092000
DTEND;TZID=Europe/Berlin:20260624T102000
UID:1W30218-20260624T092000@VHSLAICHINGEN
SUMMARY:Gymnastik "50+" (1W30218) 
LOCATION:Laichingen; vhs-Gymnastikraum, Feldstetter Straße 12, 89150 Laichingen
END:VEVENT
BEGIN:VEVENT
DTSTAMP:20260423T204718
DTSTART;TZID=Europe/Berlin:20260701T092000
DTEND;TZID=Europe/Berlin:20260701T102000
UID:1W30218-20260701T092000@VHSLAICHINGEN
SUMMARY:Gymnastik "50+" (1W30218) 
LOCATION:Laichingen; vhs-Gymnastikraum, Feldstetter Straße 12, 89150 Laichingen
END:VEVENT
END:VCALENDAR