BEGIN:VCALENDAR
VERSION:2.0
PRODID:https://www.kufer.de/kuferweb / DE
METHOD:PUBLISH
CALSCALE:GREGORIAN
X-WR-TIMEZONE:Europe/Berlin
BEGIN:VTIMEZONE
TZID:Europe/Berlin
X-LIC-LOCATION:Europe/Berlin
BEGIN:DAYLIGHT
TZOFFSETFROM:+0100
TZOFFSETTO:+0200
TZNAME:CEST
DTSTART:19700329T020000
RRULE:FREQ=YEARLY;INTERVAL=1;BYDAY=-1SU;BYMONTH=3
END:DAYLIGHT
BEGIN:STANDARD
TZOFFSETFROM:+0200
TZOFFSETTO:+0100
TZNAME:CET
DTSTART:19701025T030000
RRULE:FREQ=YEARLY;INTERVAL=1;BYDAY=-1SU;BYMONTH=10
END:STANDARD
END:VTIMEZONE
BEGIN:VEVENT
DTSTAMP:20260421T175422
DTSTART;TZID=Europe/Berlin:20260227T183000
DTEND;TZID=Europe/Berlin:20260227T200000
UID:1W30163-20260227T183000@VHSLAICHINGEN
SUMMARY:Qigong und Tai-Chi für leicht Fortgeschrittene und Fortgeschrittene (1W30163) 
LOCATION:Blaubeuren; Stadthalle, Alberstraße 9, Versammlungsraum, Alberstraße 9, 89143 Blaubeuren
END:VEVENT
BEGIN:VEVENT
DTSTAMP:20260421T175422
DTSTART;TZID=Europe/Berlin:20260306T183000
DTEND;TZID=Europe/Berlin:20260306T200000
UID:1W30163-20260306T183000@VHSLAICHINGEN
SUMMARY:Qigong und Tai-Chi für leicht Fortgeschrittene und Fortgeschrittene (1W30163) 
LOCATION:Blaubeuren; Stadthalle, Alberstraße 9, Versammlungsraum, Alberstraße 9, 89143 Blaubeuren
END:VEVENT
BEGIN:VEVENT
DTSTAMP:20260421T175422
DTSTART;TZID=Europe/Berlin:20260313T183000
DTEND;TZID=Europe/Berlin:20260313T200000
UID:1W30163-20260313T183000@VHSLAICHINGEN
SUMMARY:Qigong und Tai-Chi für leicht Fortgeschrittene und Fortgeschrittene (1W30163) 
LOCATION:Blaubeuren; Stadthalle, Alberstraße 9, Versammlungsraum, Alberstraße 9, 89143 Blaubeuren
END:VEVENT
BEGIN:VEVENT
DTSTAMP:20260421T175422
DTSTART;TZID=Europe/Berlin:20260320T183000
DTEND;TZID=Europe/Berlin:20260320T200000
UID:1W30163-20260320T183000@VHSLAICHINGEN
SUMMARY:Qigong und Tai-Chi für leicht Fortgeschrittene und Fortgeschrittene (1W30163) 
LOCATION:Blaubeuren; Stadthalle, Alberstraße 9, Versammlungsraum, Alberstraße 9, 89143 Blaubeuren
END:VEVENT
BEGIN:VEVENT
DTSTAMP:20260421T175422
DTSTART;TZID=Europe/Berlin:20260327T183000
DTEND;TZID=Europe/Berlin:20260327T200000
UID:1W30163-20260327T183000@VHSLAICHINGEN
SUMMARY:Qigong und Tai-Chi für leicht Fortgeschrittene und Fortgeschrittene (1W30163) 
LOCATION:Blaubeuren; Stadthalle, Alberstraße 9, Versammlungsraum, Alberstraße 9, 89143 Blaubeuren
END:VEVENT
BEGIN:VEVENT
DTSTAMP:20260421T175422
DTSTART;TZID=Europe/Berlin:20260417T183000
DTEND;TZID=Europe/Berlin:20260417T200000
UID:1W30163-20260417T183000@VHSLAICHINGEN
SUMMARY:Qigong und Tai-Chi für leicht Fortgeschrittene und Fortgeschrittene (1W30163) 
LOCATION:Blaubeuren; Stadthalle, Alberstraße 9, Versammlungsraum, Alberstraße 9, 89143 Blaubeuren
END:VEVENT
BEGIN:VEVENT
DTSTAMP:20260421T175422
DTSTART;TZID=Europe/Berlin:20260424T183000
DTEND;TZID=Europe/Berlin:20260424T200000
UID:1W30163-20260424T183000@VHSLAICHINGEN
SUMMARY:Qigong und Tai-Chi für leicht Fortgeschrittene und Fortgeschrittene (1W30163) 
LOCATION:Blaubeuren; Stadthalle, Alberstraße 9, Versammlungsraum, Alberstraße 9, 89143 Blaubeuren
END:VEVENT
BEGIN:VEVENT
DTSTAMP:20260421T175422
DTSTART;TZID=Europe/Berlin:20260508T183000
DTEND;TZID=Europe/Berlin:20260508T200000
UID:1W30163-20260508T183000@VHSLAICHINGEN
SUMMARY:Qigong und Tai-Chi für leicht Fortgeschrittene und Fortgeschrittene (1W30163) 
LOCATION:Blaubeuren; Stadthalle, Alberstraße 9, Versammlungsraum, Alberstraße 9, 89143 Blaubeuren
END:VEVENT
BEGIN:VEVENT
DTSTAMP:20260421T175422
DTSTART;TZID=Europe/Berlin:20260522T183000
DTEND;TZID=Europe/Berlin:20260522T200000
UID:1W30163-20260522T183000@VHSLAICHINGEN
SUMMARY:Qigong und Tai-Chi für leicht Fortgeschrittene und Fortgeschrittene (1W30163) 
LOCATION:Blaubeuren; Stadthalle, Alberstraße 9, Versammlungsraum, Alberstraße 9, 89143 Blaubeuren
END:VEVENT
BEGIN:VEVENT
DTSTAMP:20260421T175422
DTSTART;TZID=Europe/Berlin:20260612T183000
DTEND;TZID=Europe/Berlin:20260612T200000
UID:1W30163-20260612T183000@VHSLAICHINGEN
SUMMARY:Qigong und Tai-Chi für leicht Fortgeschrittene und Fortgeschrittene (1W30163) 
LOCATION:Blaubeuren; Stadthalle, Alberstraße 9, Versammlungsraum, Alberstraße 9, 89143 Blaubeuren
END:VEVENT
BEGIN:VEVENT
DTSTAMP:20260421T175422
DTSTART;TZID=Europe/Berlin:20260619T183000
DTEND;TZID=Europe/Berlin:20260619T200000
UID:1W30163-20260619T183000@VHSLAICHINGEN
SUMMARY:Qigong und Tai-Chi für leicht Fortgeschrittene und Fortgeschrittene (1W30163) 
LOCATION:Blaubeuren; Stadthalle, Alberstraße 9, Versammlungsraum, Alberstraße 9, 89143 Blaubeuren
END:VEVENT
BEGIN:VEVENT
DTSTAMP:20260421T175422
DTSTART;TZID=Europe/Berlin:20260626T183000
DTEND;TZID=Europe/Berlin:20260626T200000
UID:1W30163-20260626T183000@VHSLAICHINGEN
SUMMARY:Qigong und Tai-Chi für leicht Fortgeschrittene und Fortgeschrittene (1W30163) 
LOCATION:Blaubeuren; Stadthalle, Alberstraße 9, Versammlungsraum, Alberstraße 9, 89143 Blaubeuren
END:VEVENT
BEGIN:VEVENT
DTSTAMP:20260421T175422
DTSTART;TZID=Europe/Berlin:20260703T183000
DTEND;TZID=Europe/Berlin:20260703T200000
UID:1W30163-20260703T183000@VHSLAICHINGEN
SUMMARY:Qigong und Tai-Chi für leicht Fortgeschrittene und Fortgeschrittene (1W30163) 
LOCATION:Blaubeuren; Stadthalle, Alberstraße 9, Versammlungsraum, Alberstraße 9, 89143 Blaubeuren
END:VEVENT
BEGIN:VEVENT
DTSTAMP:20260421T175422
DTSTART;TZID=Europe/Berlin:20260710T183000
DTEND;TZID=Europe/Berlin:20260710T200000
UID:1W30163-20260710T183000@VHSLAICHINGEN
SUMMARY:Qigong und Tai-Chi für leicht Fortgeschrittene und Fortgeschrittene (1W30163) 
LOCATION:Blaubeuren; Stadthalle, Alberstraße 9, Versammlungsraum, Alberstraße 9, 89143 Blaubeuren
END:VEVENT
BEGIN:VEVENT
DTSTAMP:20260421T175422
DTSTART;TZID=Europe/Berlin:20260717T183000
DTEND;TZID=Europe/Berlin:20260717T200000
UID:1W30163-20260717T183000@VHSLAICHINGEN
SUMMARY:Qigong und Tai-Chi für leicht Fortgeschrittene und Fortgeschrittene (1W30163) 
LOCATION:Blaubeuren; Stadthalle, Alberstraße 9, Versammlungsraum, Alberstraße 9, 89143 Blaubeuren
END:VEVENT
END:VCALENDAR