BEGIN:VCALENDAR
VERSION:2.0
PRODID:https://www.kufer.de/kuferweb / DE
METHOD:PUBLISH
CALSCALE:GREGORIAN
X-WR-TIMEZONE:Europe/Berlin
BEGIN:VTIMEZONE
TZID:Europe/Berlin
X-LIC-LOCATION:Europe/Berlin
BEGIN:DAYLIGHT
TZOFFSETFROM:+0100
TZOFFSETTO:+0200
TZNAME:CEST
DTSTART:19700329T020000
RRULE:FREQ=YEARLY;INTERVAL=1;BYDAY=-1SU;BYMONTH=3
END:DAYLIGHT
BEGIN:STANDARD
TZOFFSETFROM:+0200
TZOFFSETTO:+0100
TZNAME:CET
DTSTART:19701025T030000
RRULE:FREQ=YEARLY;INTERVAL=1;BYDAY=-1SU;BYMONTH=10
END:STANDARD
END:VTIMEZONE
BEGIN:VEVENT
DTSTAMP:20260420T100515
DTSTART;TZID=Europe/Berlin:20260305T073000
DTEND;TZID=Europe/Berlin:20260305T083000
UID:1W30152-20260305T073000@VHSLAICHINGEN
SUMMARY:Yoga FRÜHAUFSTEHER Yoga  für Einsteiger*innen (1W30152) 
LOCATION:Laichingen; vhs-Studio, Raum 1, Karlstraße 30, 89150 Laichingen
END:VEVENT
BEGIN:VEVENT
DTSTAMP:20260420T100515
DTSTART;TZID=Europe/Berlin:20260312T073000
DTEND;TZID=Europe/Berlin:20260312T083000
UID:1W30152-20260312T073000@VHSLAICHINGEN
SUMMARY:Yoga FRÜHAUFSTEHER Yoga  für Einsteiger*innen (1W30152) 
LOCATION:Laichingen; vhs-Studio, Raum 1, Karlstraße 30, 89150 Laichingen
END:VEVENT
BEGIN:VEVENT
DTSTAMP:20260420T100515
DTSTART;TZID=Europe/Berlin:20260319T073000
DTEND;TZID=Europe/Berlin:20260319T083000
UID:1W30152-20260319T073000@VHSLAICHINGEN
SUMMARY:Yoga FRÜHAUFSTEHER Yoga  für Einsteiger*innen (1W30152) 
LOCATION:Laichingen; vhs-Studio, Raum 1, Karlstraße 30, 89150 Laichingen
END:VEVENT
BEGIN:VEVENT
DTSTAMP:20260420T100515
DTSTART;TZID=Europe/Berlin:20260326T073000
DTEND;TZID=Europe/Berlin:20260326T083000
UID:1W30152-20260326T073000@VHSLAICHINGEN
SUMMARY:Yoga FRÜHAUFSTEHER Yoga  für Einsteiger*innen (1W30152) 
LOCATION:Laichingen; vhs-Studio, Raum 1, Karlstraße 30, 89150 Laichingen
END:VEVENT
BEGIN:VEVENT
DTSTAMP:20260420T100515
DTSTART;TZID=Europe/Berlin:20260416T073000
DTEND;TZID=Europe/Berlin:20260416T083000
UID:1W30152-20260416T073000@VHSLAICHINGEN
SUMMARY:Yoga FRÜHAUFSTEHER Yoga  für Einsteiger*innen (1W30152) 
LOCATION:Laichingen; vhs-Studio, Raum 1, Karlstraße 30, 89150 Laichingen
END:VEVENT
BEGIN:VEVENT
DTSTAMP:20260420T100515
DTSTART;TZID=Europe/Berlin:20260423T073000
DTEND;TZID=Europe/Berlin:20260423T083000
UID:1W30152-20260423T073000@VHSLAICHINGEN
SUMMARY:Yoga FRÜHAUFSTEHER Yoga  für Einsteiger*innen (1W30152) 
LOCATION:Laichingen; vhs-Studio, Raum 1, Karlstraße 30, 89150 Laichingen
END:VEVENT
BEGIN:VEVENT
DTSTAMP:20260420T100515
DTSTART;TZID=Europe/Berlin:20260430T073000
DTEND;TZID=Europe/Berlin:20260430T083000
UID:1W30152-20260430T073000@VHSLAICHINGEN
SUMMARY:Yoga FRÜHAUFSTEHER Yoga  für Einsteiger*innen (1W30152) 
LOCATION:Laichingen; vhs-Studio, Raum 1, Karlstraße 30, 89150 Laichingen
END:VEVENT
BEGIN:VEVENT
DTSTAMP:20260420T100515
DTSTART;TZID=Europe/Berlin:20260507T073000
DTEND;TZID=Europe/Berlin:20260507T083000
UID:1W30152-20260507T073000@VHSLAICHINGEN
SUMMARY:Yoga FRÜHAUFSTEHER Yoga  für Einsteiger*innen (1W30152) 
LOCATION:Laichingen; vhs-Studio, Raum 1, Karlstraße 30, 89150 Laichingen
END:VEVENT
BEGIN:VEVENT
DTSTAMP:20260420T100515
DTSTART;TZID=Europe/Berlin:20260521T073000
DTEND;TZID=Europe/Berlin:20260521T083000
UID:1W30152-20260521T073000@VHSLAICHINGEN
SUMMARY:Yoga FRÜHAUFSTEHER Yoga  für Einsteiger*innen (1W30152) 
LOCATION:Laichingen; vhs-Studio, Raum 1, Karlstraße 30, 89150 Laichingen
END:VEVENT
BEGIN:VEVENT
DTSTAMP:20260420T100515
DTSTART;TZID=Europe/Berlin:20260611T073000
DTEND;TZID=Europe/Berlin:20260611T083000
UID:1W30152-20260611T073000@VHSLAICHINGEN
SUMMARY:Yoga FRÜHAUFSTEHER Yoga  für Einsteiger*innen (1W30152) 
LOCATION:Laichingen; vhs-Studio, Raum 1, Karlstraße 30, 89150 Laichingen
END:VEVENT
BEGIN:VEVENT
DTSTAMP:20260420T100515
DTSTART;TZID=Europe/Berlin:20260618T073000
DTEND;TZID=Europe/Berlin:20260618T083000
UID:1W30152-20260618T073000@VHSLAICHINGEN
SUMMARY:Yoga FRÜHAUFSTEHER Yoga  für Einsteiger*innen (1W30152) 
LOCATION:Laichingen; vhs-Studio, Raum 1, Karlstraße 30, 89150 Laichingen
END:VEVENT
BEGIN:VEVENT
DTSTAMP:20260420T100515
DTSTART;TZID=Europe/Berlin:20260625T073000
DTEND;TZID=Europe/Berlin:20260625T083000
UID:1W30152-20260625T073000@VHSLAICHINGEN
SUMMARY:Yoga FRÜHAUFSTEHER Yoga  für Einsteiger*innen (1W30152) 
LOCATION:Laichingen; vhs-Studio, Raum 1, Karlstraße 30, 89150 Laichingen
END:VEVENT
END:VCALENDAR