BEGIN:VCALENDAR
VERSION:2.0
PRODID:https://www.kufer.de/kuferweb / DE
METHOD:PUBLISH
CALSCALE:GREGORIAN
X-WR-TIMEZONE:Europe/Berlin
BEGIN:VTIMEZONE
TZID:Europe/Berlin
X-LIC-LOCATION:Europe/Berlin
BEGIN:DAYLIGHT
TZOFFSETFROM:+0100
TZOFFSETTO:+0200
TZNAME:CEST
DTSTART:19700329T020000
RRULE:FREQ=YEARLY;INTERVAL=1;BYDAY=-1SU;BYMONTH=3
END:DAYLIGHT
BEGIN:STANDARD
TZOFFSETFROM:+0200
TZOFFSETTO:+0100
TZNAME:CET
DTSTART:19701025T030000
RRULE:FREQ=YEARLY;INTERVAL=1;BYDAY=-1SU;BYMONTH=10
END:STANDARD
END:VTIMEZONE
BEGIN:VEVENT
DTSTAMP:20260421T204301
DTSTART;TZID=Europe/Berlin:20260223T173000
DTEND;TZID=Europe/Berlin:20260223T184500
UID:1W30113-20260223T173000@VHSLAICHINGEN
SUMMARY:Yoga Hatha Yoga mit Flowelementen, für Anfänger*innen und Fortgeschrittene (1W30113) 
LOCATION:Blaubeuren-Sonderbuch; Dorfgemeinschaftshaus, Blaubeurer Straße, 89143 Blaubeuren - Sonderbuch
END:VEVENT
BEGIN:VEVENT
DTSTAMP:20260421T204301
DTSTART;TZID=Europe/Berlin:20260302T173000
DTEND;TZID=Europe/Berlin:20260302T184500
UID:1W30113-20260302T173000@VHSLAICHINGEN
SUMMARY:Yoga Hatha Yoga mit Flowelementen, für Anfänger*innen und Fortgeschrittene (1W30113) 
LOCATION:Blaubeuren-Sonderbuch; Dorfgemeinschaftshaus, Blaubeurer Straße, 89143 Blaubeuren - Sonderbuch
END:VEVENT
BEGIN:VEVENT
DTSTAMP:20260421T204301
DTSTART;TZID=Europe/Berlin:20260309T173000
DTEND;TZID=Europe/Berlin:20260309T184500
UID:1W30113-20260309T173000@VHSLAICHINGEN
SUMMARY:Yoga Hatha Yoga mit Flowelementen, für Anfänger*innen und Fortgeschrittene (1W30113) 
LOCATION:Blaubeuren-Sonderbuch; Dorfgemeinschaftshaus, Blaubeurer Straße, 89143 Blaubeuren - Sonderbuch
END:VEVENT
BEGIN:VEVENT
DTSTAMP:20260421T204301
DTSTART;TZID=Europe/Berlin:20260316T173000
DTEND;TZID=Europe/Berlin:20260316T184500
UID:1W30113-20260316T173000@VHSLAICHINGEN
SUMMARY:Yoga Hatha Yoga mit Flowelementen, für Anfänger*innen und Fortgeschrittene (1W30113) 
LOCATION:Blaubeuren-Sonderbuch; Dorfgemeinschaftshaus, Blaubeurer Straße, 89143 Blaubeuren - Sonderbuch
END:VEVENT
BEGIN:VEVENT
DTSTAMP:20260421T204301
DTSTART;TZID=Europe/Berlin:20260323T173000
DTEND;TZID=Europe/Berlin:20260323T184500
UID:1W30113-20260323T173000@VHSLAICHINGEN
SUMMARY:Yoga Hatha Yoga mit Flowelementen, für Anfänger*innen und Fortgeschrittene (1W30113) 
LOCATION:Blaubeuren-Sonderbuch; Dorfgemeinschaftshaus, Blaubeurer Straße, 89143 Blaubeuren - Sonderbuch
END:VEVENT
BEGIN:VEVENT
DTSTAMP:20260421T204301
DTSTART;TZID=Europe/Berlin:20260413T173000
DTEND;TZID=Europe/Berlin:20260413T184500
UID:1W30113-20260413T173000@VHSLAICHINGEN
SUMMARY:Yoga Hatha Yoga mit Flowelementen, für Anfänger*innen und Fortgeschrittene (1W30113) 
LOCATION:Blaubeuren-Sonderbuch; Dorfgemeinschaftshaus, Blaubeurer Straße, 89143 Blaubeuren - Sonderbuch
END:VEVENT
BEGIN:VEVENT
DTSTAMP:20260421T204301
DTSTART;TZID=Europe/Berlin:20260420T173000
DTEND;TZID=Europe/Berlin:20260420T184500
UID:1W30113-20260420T173000@VHSLAICHINGEN
SUMMARY:Yoga Hatha Yoga mit Flowelementen, für Anfänger*innen und Fortgeschrittene (1W30113) 
LOCATION:Blaubeuren-Sonderbuch; Dorfgemeinschaftshaus, Blaubeurer Straße, 89143 Blaubeuren - Sonderbuch
END:VEVENT
BEGIN:VEVENT
DTSTAMP:20260421T204301
DTSTART;TZID=Europe/Berlin:20260427T173000
DTEND;TZID=Europe/Berlin:20260427T184500
UID:1W30113-20260427T173000@VHSLAICHINGEN
SUMMARY:Yoga Hatha Yoga mit Flowelementen, für Anfänger*innen und Fortgeschrittene (1W30113) 
LOCATION:Blaubeuren-Sonderbuch; Dorfgemeinschaftshaus, Blaubeurer Straße, 89143 Blaubeuren - Sonderbuch
END:VEVENT
BEGIN:VEVENT
DTSTAMP:20260421T204301
DTSTART;TZID=Europe/Berlin:20260504T173000
DTEND;TZID=Europe/Berlin:20260504T184500
UID:1W30113-20260504T173000@VHSLAICHINGEN
SUMMARY:Yoga Hatha Yoga mit Flowelementen, für Anfänger*innen und Fortgeschrittene (1W30113) 
LOCATION:Blaubeuren-Sonderbuch; Dorfgemeinschaftshaus, Blaubeurer Straße, 89143 Blaubeuren - Sonderbuch
END:VEVENT
BEGIN:VEVENT
DTSTAMP:20260421T204301
DTSTART;TZID=Europe/Berlin:20260511T173000
DTEND;TZID=Europe/Berlin:20260511T184500
UID:1W30113-20260511T173000@VHSLAICHINGEN
SUMMARY:Yoga Hatha Yoga mit Flowelementen, für Anfänger*innen und Fortgeschrittene (1W30113) 
LOCATION:Blaubeuren-Sonderbuch; Dorfgemeinschaftshaus, Blaubeurer Straße, 89143 Blaubeuren - Sonderbuch
END:VEVENT
BEGIN:VEVENT
DTSTAMP:20260421T204301
DTSTART;TZID=Europe/Berlin:20260518T173000
DTEND;TZID=Europe/Berlin:20260518T184500
UID:1W30113-20260518T173000@VHSLAICHINGEN
SUMMARY:Yoga Hatha Yoga mit Flowelementen, für Anfänger*innen und Fortgeschrittene (1W30113) 
LOCATION:Blaubeuren-Sonderbuch; Dorfgemeinschaftshaus, Blaubeurer Straße, 89143 Blaubeuren - Sonderbuch
END:VEVENT
BEGIN:VEVENT
DTSTAMP:20260421T204301
DTSTART;TZID=Europe/Berlin:20260608T173000
DTEND;TZID=Europe/Berlin:20260608T184500
UID:1W30113-20260608T173000@VHSLAICHINGEN
SUMMARY:Yoga Hatha Yoga mit Flowelementen, für Anfänger*innen und Fortgeschrittene (1W30113) 
LOCATION:Blaubeuren-Sonderbuch; Dorfgemeinschaftshaus, Blaubeurer Straße, 89143 Blaubeuren - Sonderbuch
END:VEVENT
BEGIN:VEVENT
DTSTAMP:20260421T204301
DTSTART;TZID=Europe/Berlin:20260615T173000
DTEND;TZID=Europe/Berlin:20260615T184500
UID:1W30113-20260615T173000@VHSLAICHINGEN
SUMMARY:Yoga Hatha Yoga mit Flowelementen, für Anfänger*innen und Fortgeschrittene (1W30113) 
LOCATION:Blaubeuren-Sonderbuch; Dorfgemeinschaftshaus, Blaubeurer Straße, 89143 Blaubeuren - Sonderbuch
END:VEVENT
BEGIN:VEVENT
DTSTAMP:20260421T204301
DTSTART;TZID=Europe/Berlin:20260622T173000
DTEND;TZID=Europe/Berlin:20260622T184500
UID:1W30113-20260622T173000@VHSLAICHINGEN
SUMMARY:Yoga Hatha Yoga mit Flowelementen, für Anfänger*innen und Fortgeschrittene (1W30113) 
LOCATION:Blaubeuren-Sonderbuch; Dorfgemeinschaftshaus, Blaubeurer Straße, 89143 Blaubeuren - Sonderbuch
END:VEVENT
END:VCALENDAR