BEGIN:VCALENDAR
VERSION:2.0
PRODID:https://www.kufer.de/kuferweb / DE
METHOD:PUBLISH
CALSCALE:GREGORIAN
X-WR-TIMEZONE:Europe/Berlin
BEGIN:VTIMEZONE
TZID:Europe/Berlin
X-LIC-LOCATION:Europe/Berlin
BEGIN:DAYLIGHT
TZOFFSETFROM:+0100
TZOFFSETTO:+0200
TZNAME:CEST
DTSTART:19700329T020000
RRULE:FREQ=YEARLY;INTERVAL=1;BYDAY=-1SU;BYMONTH=3
END:DAYLIGHT
BEGIN:STANDARD
TZOFFSETFROM:+0200
TZOFFSETTO:+0100
TZNAME:CET
DTSTART:19701025T030000
RRULE:FREQ=YEARLY;INTERVAL=1;BYDAY=-1SU;BYMONTH=10
END:STANDARD
END:VTIMEZONE
BEGIN:VEVENT
DTSTAMP:20260421T204219
DTSTART;TZID=Europe/Berlin:20260519T190000
DTEND;TZID=Europe/Berlin:20260519T203000
UID:1W10014-20260519T190000@VHSLAICHINGEN
SUMMARY:Unsichtbar und allgegenwärtig: Wie KI heute schon über unser Leben mitentscheidet vom Arztbesuch bis zur App: Wie KI längst in unser Leben eingreift - und was das für uns bedeutet (1W10014) 
LOCATION:Laichingen; Volksbank Alb eG, Auditorium, Bahnhofstraße 19, 89150 Laichingen
END:VEVENT
END:VCALENDAR